BEGIN:VCALENDAR
VERSION:2.0
PRODID:-//Nutztierhomoeopathie Birgit Gnadl &amp; Angela Lamminger - ECPv4.6.19//NONSGML v1.0//EN
CALSCALE:GREGORIAN
METHOD:PUBLISH
X-WR-CALNAME:Nutztierhomoeopathie Birgit Gnadl &amp; Angela Lamminger
X-ORIGINAL-URL:https://www.nutztierhomoeopathie.de
X-WR-CALDESC:Veranstaltungen für Nutztierhomoeopathie Birgit Gnadl &amp; Angela Lamminger
BEGIN:VEVENT
DTSTART;TZID=Europe/Berlin:20250428T200000
DTEND;TZID=Europe/Berlin:20250428T213000
DTSTAMP:20260426T014854
CREATED:20250331T081839Z
LAST-MODIFIED:20250401T114747Z
UID:3915-1745870400-1745875800@www.nutztierhomoeopathie.de
SUMMARY:WEBINAR: Tipps & Wissen zur ganzheitlichen Begleitung rund um die Geburt bei Mutterkühen
DESCRIPTION:WEBINAR – kostenlos! \n„Tipps & Wissen zur ganzheitlichen Begleitung rund um die Geburt bei Mutterkühen“ \nMontag\, 28. April 2025\, 20:00 Uhr\,  Online – bequem von zu Hause aus! \n\nDieses kostenlose Webinar soll einen Einblick in die ganzheitliche Behandlung von Mutterkühen geben.\nDas zugehörige Skript kann auf Wunsch separat unter igari@t-online.de bestellt werden. Kosten: 35\,00 € zzgl. Porto\nDesweiteren ist es möglich weitere aufbauende kostenpflichtige Webinare mit Schwerpunkten rund um die geschilderten Themen zu vertiefen.\n\nAnmeldung für kostenloses Webinar:  \nhttps://us06web.zoom.us/meeting/register/1a00KikASwajMSILKqJhUQ \nPraxis für ganzheitliche Nutztiergesundheit Birgit Gnadl & Angela Lamminger www.nutztierhomoeopathie.de \nInfos zum Webinar auch bei: Barbara Plank\, Mobil/WhatsApp: +39 338/6395296 \n  \nDas Seminar wird für interne Zwecke aufgezeichnet und steht den Teilnehmern im Anschluss NICHT zur Verfügung\, es ist ein LIVE-Webinar. Danke fürs Verständnis. \n  \nInhalt des Info-Webinares und der vertiefenden Aufbauwebinare: \n\nUnterstützung in den verschiedenen Geburtsphasen – Wie du die Geburt deiner Mutterkühe optimal begleitest\nFörderung eines natürlichen Nachgeburtsabganges – Tipps zur erfolgreichen Nachgeburtsphase\nBehandlung von Saugstörungen beim Kalb – Was tun\, wenn das Kalb Schwierigkeiten beim Saugen hat?\nKälber saugen nicht gleichmäßig an allen Vierteln – Ursachen und Lösungen\nPrävention und Therapie von Problemen und Krankheiten rund um die Geburt – Wie du Probleme vermeidest.\nHerdenschutzhunde und Hofhunde\, was ist zu beachten?\nWie funktioniert das Euter? – Wichtige Informationen zur Funktionsweise des Euters\nBehandlung von Euterproblemen und Euterverletzungen bei Mutterkühen – Was tun bei Eutererkrankungen?\nStärkung des Immunsystems von Mutterkuh und Kalb – Tipps zur Unterstützung von Kuh und Kalb\nVerbesserung der Erholungsphase nach der Geburt – Auf was ist zu achten?\nParasiten – Vorbeugung und ganzheitliche erprobte und funktionierende Behandlung\nKälberdurchfall –auch in der Mutterkuhhaltung – Therapie ganzheitlich\nMineralstoffversorgung bei Mutterkühen – brauchen extensive Rinder überhaupt Mineralfutter?\nKlauenerkrankungen bei Mutterkühen – Ursachen und Abhilfe\n\n…und noch vieles mehr! \nDrucken
URL:https://www.nutztierhomoeopathie.de/event/webinar-tipps-wissen-zur-ganzheitlichen-begleitung-rund-um-die-geburt-bei-mutterkuehen/
CATEGORIES:Basis-Seminare,Online-Seminare
ATTACH;FMTTYPE=image/jpeg:https://www.nutztierhomoeopathie.de/wp-content/uploads/2025/03/IMG_6295.jpg
END:VEVENT
END:VCALENDAR