BEGIN:VCALENDAR
VERSION:2.0
PRODID:-//Nutztierhomoeopathie Birgit Gnadl &amp; Angela Lamminger - ECPv4.6.19//NONSGML v1.0//EN
CALSCALE:GREGORIAN
METHOD:PUBLISH
X-WR-CALNAME:Nutztierhomoeopathie Birgit Gnadl &amp; Angela Lamminger
X-ORIGINAL-URL:https://www.nutztierhomoeopathie.de
X-WR-CALDESC:Veranstaltungen für Nutztierhomoeopathie Birgit Gnadl &amp; Angela Lamminger
BEGIN:VEVENT
DTSTART;TZID=Europe/Berlin:20230719T190000
DTEND;TZID=Europe/Berlin:20230719T210000
DTSTAMP:20260424T144609
CREATED:20230517T174555Z
LAST-MODIFIED:20230518T095554Z
UID:3233-1689793200-1689800400@www.nutztierhomoeopathie.de
SUMMARY:WEBINAR - Hufrehe aus Sicht der Fütterung
DESCRIPTION:WEBINAR\nAufbauseminar Homöopathie für Pferde\nThema: Hufrehe aus Sicht der Fütterung \nGrundlagenkenntnisse Homöopathie sind für dieses Seminar NICHT notwendig. \nSeminartermin: 19.07.2023 \nSeminarzeit: 19:00 – 21:00 Uhr \nSeminarkosten: 48 Euro \nOrganisation und Webinar-Begleitung: Angela Lamminger \nGast-Referent: Nicole Heilmaier. \nTrainer B im Westernreiten und arbeitet seit 16 Jahren mit Pferden. Neben der Zucht für Paint und QuarterHorse führt Sie seit vielen Jahren einen Pferde-Einstellerbetrieb. 2021 Ausbildung zur Futtermittelberaterin\, im selben Jahr die Firma „Mein Pferde Müsli“ Eine Manufaktur für natürliches und gesundes Pferdefutter – gegründet. \n\nAnmeldung: \nIGARI Praxisgemeinschaft Birgit Gnadl und Angela Lamminger \nAnmeldung\n  \n\n\nDas Seminarskript bekommen Sie vorab per Post von uns zugesendet.\nBei einer Anmeldung mindestens 1 Woche vor Seminartermin kann das Skript noch pünktlich bei Ihnen ankommen\, ansonsten erhalten Sie das Skript im Anschluss an das Seminar. \n\nSeminarbeschreibung:\nDiagnose Hufrehe – jeder Pferdebesitzer hat Angst vor ihr. Mit dieser Diagnose beginnt ein\, meist langer\, Leidensweg für das Pferd\, aber auch für den Besitzer. Häufig ist man erst einmal überfordert. Was ist jetzt gut für mein Pferd? Woher kommt die Hufrehe eigentlich? Wie kann ich mein Pferd vor weiteren Schüben schützen?\nFür die Hufrehe gibt es viele verschiedene Ursachen. Die Fütterung spielt hier eine nicht zu unterschätzende Rolle. Wir möchten dir in unserem Webinar einen Einblick in diese Krankheit geben. Du lernst hier nicht nur das Krankheitsbild kennen\, sondern auch wie du dein Pferd im Bereich der Fütterung unterstützen kannst. Eine gesunde Fütterung\, abgestimmt auf das jeweilige Pferd\, minimiert das Risiko einer Rehe erheblich. \nInhalt:\n– Der Huf – Aufbau und Funktion\n– Die verschiedenen Arten der Hufrehe\n– wie entsteht eine Hufrehe\n– welche Pferde sind gefährdet\n– Die Fütterung von Rehepferden\n– gesunde Fütterung als Prophylaxe\n– anschließende Fragerunde \n\n\nErforderliche Technik:\nNachdem die Anmeldung und die Bezahlung zum Seminar abgeschlossen ist\, erhalten Sie eine manuell erstellte E-Mail mit dem Zugangslink für das Webinar über die bekannte Plattform ZOOM. Sie müssen ZOOM nur einmal auf Ihrem PC\, Tablet\, Telefon installieren (geht mit einem einfachen Klick) und dann können Sie jederzeit diese Plattform ganz unkompliziert nutzen.\nDrucken
URL:https://www.nutztierhomoeopathie.de/event/webinar-hufrehe-aus-sicht-der-fuetterung/
CATEGORIES:Aufbauseminare,Basis-Seminare,Online-Seminare,Pferdeseminare
ATTACH;FMTTYPE=image/jpeg:https://www.nutztierhomoeopathie.de/wp-content/uploads/2023/05/Hufrehe-Fütterung-Nicole-Heilmair.jpg
ORGANIZER;CN="Angela%20Lamminger":MAILTO:gela.lamminger@t-online.de
END:VEVENT
END:VCALENDAR