BEGIN:VCALENDAR
VERSION:2.0
PRODID:-//Nutztierhomoeopathie Birgit Gnadl &amp; Angela Lamminger - ECPv4.6.19//NONSGML v1.0//EN
CALSCALE:GREGORIAN
METHOD:PUBLISH
X-WR-CALNAME:Nutztierhomoeopathie Birgit Gnadl &amp; Angela Lamminger
X-ORIGINAL-URL:https://www.nutztierhomoeopathie.de
X-WR-CALDESC:Veranstaltungen für Nutztierhomoeopathie Birgit Gnadl &amp; Angela Lamminger
BEGIN:VEVENT
DTSTART;TZID=Europe/Berlin:20230724T190000
DTEND;TZID=Europe/Berlin:20230724T210000
DTSTAMP:20260424T144447
CREATED:20210412T183340Z
LAST-MODIFIED:20230517T111559Z
UID:2122-1690225200-1690232400@www.nutztierhomoeopathie.de
SUMMARY:Webinar - Aufbauseminar Homöopathie für Pferde\, Hufrehe ganzheitlich betrachtet
DESCRIPTION:WEBINAR\nAufbauseminar Homöopathie für Pferde\nThema: Hufrehe ganzheitlich betrachtet und Möglichkeiten der Homöopathie \nGrundlagenkenntnisse Homöopathie sind für dieses Seminar notwendig. \nSeminartermin: 24.07.2023 \nSeminarzeit: 19:00 – 21:00 Uhr \nSeminarkosten: 48 Euro \nSeminarleitung: Angela Lamminger \n\nAnmeldung: \nIGARI Praxisgemeinschaft Birgit Gnadl und Angela Lamminger \nAnmeldung\n  \n\n\nDas Seminarskript bekommen Sie vorab per Post von uns zugesendet.\nBei einer Anmeldung mindestens 1 Woche vor Seminartermin kann das Skript noch pünktlich bei Ihnen ankommen\, ansonsten erhalten Sie das Skript im Anschluss an das Seminar. \n\nSeminarinhalt:\n• Verschiedenste Auslöser und Ursachen zur Entstehung der Hufrehe\n• Symptome und Anzeichen rechtzeitig erkennen\n• Therapeutische Maßnahmen\, wichtiges zur Fütterung\n• Möglichkeiten der homöopathischen Unterstützung\n\n \n\nErforderliche Technik:\nNachdem die Anmeldung und die Bezahlung zum Seminar abgeschlossen ist\, erhalten Sie eine manuell erstellte E-Mail mit dem Zugangslink für das Webinar über die bekannte Plattform ZOOM. Sie müssen ZOOM nur einmal auf Ihrem PC\, Tablet\, Telefon installieren (geht mit einem einfachen Klick) und dann können Sie jederzeit diese Plattform ganz unkompliziert nutzen.\n\n \n  \n  \n  \nDrucken
URL:https://www.nutztierhomoeopathie.de/event/webinar-aufbauseminar-fuer-pferde-homoeopathische-behandlung-in-notfallsituationen-und-bei-verhaltensstoerungen/
CATEGORIES:Aufbauseminare,Online-Seminare,Pferdeseminare
ATTACH;FMTTYPE=image/jpeg:https://www.nutztierhomoeopathie.de/wp-content/uploads/2021/04/Hufrehe-huf-g3eabb7a34_1920.jpg
ORGANIZER;CN="Angela%20Lamminger":MAILTO:gela.lamminger@t-online.de
END:VEVENT
END:VCALENDAR