BEGIN:VCALENDAR
VERSION:2.0
PRODID:-//Nutztierhomoeopathie Birgit Gnadl &amp; Angela Lamminger - ECPv4.6.19//NONSGML v1.0//EN
CALSCALE:GREGORIAN
METHOD:PUBLISH
X-WR-CALNAME:Nutztierhomoeopathie Birgit Gnadl &amp; Angela Lamminger
X-ORIGINAL-URL:https://www.nutztierhomoeopathie.de
X-WR-CALDESC:Veranstaltungen für Nutztierhomoeopathie Birgit Gnadl &amp; Angela Lamminger
BEGIN:VEVENT
DTSTART;TZID=Europe/Berlin:20250403T093000
DTEND;TZID=Europe/Berlin:20250404T160000
DTSTAMP:20260425T211034
CREATED:20250109T190314Z
LAST-MODIFIED:20250123T124043Z
UID:3838-1743672600-1743782400@www.nutztierhomoeopathie.de
SUMMARY:Tierkommunikation - Wie sage ich es meiner Kuh?
DESCRIPTION:A-Seekirchen am Wallersee \nTierkommunikation:\nWie sage ich es meiner Kuh?\nErlebe in diesem Workshop\, wie DU mit Tieren kommunizieren kannst\, damit sie DICH tatsächlich verstehen. \nFür leichtere und sichere Arbeitsabläufe:  \nEntspannte Tiere beim Verladen\, bei der Klauenpflege\, beim Umstallen\, bei Behandlungen\, bei Trennung von Mutterkuh und Kalb. \nReduziere Stress und steigere die Gesundheit:  \nSchwieriges Verhalten der Tiere verstehen mit Tipps und Tricks aus der Verhaltensforschung. Erlebe zeitsparendes und geschmeidiges Zusammenarbeiten mit deinen Tieren. \nErhöhe das Vertrauen und die Zufriedenheit: \nMit effektiver Kommunikation beginnen die Tiere uns besser zu verstehen. Unsicherheiten werden vorgebeugt. Die Tiere beginnen uns mehr zu Vertrauen. Mit entspannten und gesunden Tieren macht die Arbeit einfach mehr Spaß! \n  \nSeminarleitung: \nMeike Böhm \nTierkommunikatorin und Verhaltensforscherin Meike Böhm hat sich auf die effektive Alltagskommunikation mit Nutztieren und Haustieren spezialisiert. Sie hat in den letzten 7 Jahren Kommunikations-Schritte entwickelt\, welche sie dir in diesem Vortrag weitergeben wird. \n www.meikeboehm.com  \n  \nSeminartermin: 03. April 2025\, 9:30 bis 16:00 Uhr \nSeminarkosten: 175\,00 € pro Person\, inkl. Seminarverpflegung \nOrganisation und  Anmeldung: THP Praxisgemeinschaft Birgit Gnadl und Angela Lamminger\, E-Mail: gela.lamminger@t-online.de \nSeminarort: A-Seekirchen am Wallersee (der genaue Veranstaltungsort wird den Teilnehmern mit dem Einladungsmail mitgeteilt) \n  \nSeminarbeschreibung: \nDieser Workshop findet direkt auf einem Milchviehbetrieb statt. Entdecke und erfahren\, welche Wunder durch eine effektive und ehrliche Kommunikation entstehen können und die vielen Möglichkeiten durch spannende Fallgeschichten. Mit praktischen Übungen und Unterlagen für den eigenen Stallalltag mit deinen Tieren. \n  \nBitte mitbringen: Wetterfeste Kleidung und eigenes Schreibmaterial\nDrucken
URL:https://www.nutztierhomoeopathie.de/event/tierkommunikation-unser-hof-unsere-herde-unser-beruf-unser-leben/
CATEGORIES:Aufbauseminare,Basis-Seminare
ATTACH;FMTTYPE=image/jpeg:https://www.nutztierhomoeopathie.de/wp-content/uploads/2025/01/Tierkommunikation-Meike.jpg
ORGANIZER;CN="Angela%20Lamminger":MAILTO:gela.lamminger@t-online.de
END:VEVENT
END:VCALENDAR