BEGIN:VCALENDAR
VERSION:2.0
PRODID:-//Nutztierhomoeopathie Birgit Gnadl &amp; Angela Lamminger - ECPv4.6.19//NONSGML v1.0//EN
CALSCALE:GREGORIAN
METHOD:PUBLISH
X-WR-CALNAME:Nutztierhomoeopathie Birgit Gnadl &amp; Angela Lamminger
X-ORIGINAL-URL:https://www.nutztierhomoeopathie.de
X-WR-CALDESC:Veranstaltungen für Nutztierhomoeopathie Birgit Gnadl &amp; Angela Lamminger
BEGIN:VEVENT
DTSTART;TZID=Europe/Berlin:20250221T090000
DTEND;TZID=Europe/Berlin:20250221T160000
DTSTAMP:20260424T152112
CREATED:20241129T085512Z
LAST-MODIFIED:20241201T103258Z
UID:3793-1740128400-1740153600@www.nutztierhomoeopathie.de
SUMMARY:Taping und Akupressur für Rinder
DESCRIPTION:A-5730 Mittersill \nTaping und Akupressur für Rinder\nSeminartermin: 21.02.2025 \nSeminarzeit: 9:00 bis 16:00 Uhr \nSeminarort: Fam.Dankl\, Holzlehen\, Jochberg 22\, A-5731 Hollersbach \nSeminarkosten: 140 Euro inkl. Materialkosten \nSeminarleitung: Margit Hiesberger \nAnmeldung: \nPraxisgemeinschaft Birgit Gnadl und Angela Lamminger \nkontakt@nutztierhomoeopathie. de \n  \nSeminarbeschreibung:\nNicht nur unsere Hunde und Pferde genießen die Taping- und Akupressuranwendung\, diese ist auch für unsere Rinder eine wunderbare\, gute Unterstützung. \nDie Kinesio Taping ist eine sanfte Methode bei der elastische Bänder auf Muskelstrukturen aufgeklebt werden\, Nerven-\, \nBlut- und Lymphzirkulation angeregt wird\, um somit die Entspannung der Muskulatur zu fördern. Zusätzlich können wir mit Akupressurpunkten unterstützten. \nKinesio Taping kann nach Absprache mit dem Tierarzt bei einer Vielzahl angewendet werden wie z.B.: \n\nbei Muskelverhärtungen\, Verklebung der Faszien\nNarbengewebe\nÖdeme und Hämatome\nLymphflussstörungen\nDysbalance der Sehnen\, Bänder und Gelenken\nEnergetische Störungen von neurologischer Strukturen\nnach stumpfen Verletzungen\nAnlage auf Akupressurpunkten\n\nVormittags wird in der Theorie die Anlagetechnik\, die Wirkung bzw Kontraindikationen besprochen und Nachmittag geht es in die Praxis an die Rinder. \nEs sind keine Vorkenntnisse nötig. \nMitzubringen ist für den Praxisteil\, saubere Stallkleidung und Schuhe. \nDrucken
URL:https://www.nutztierhomoeopathie.de/event/taping-und-akupressur-fuer-rinder/
CATEGORIES:Aufbauseminare,Basis-Seminare
ATTACH;FMTTYPE=image/jpeg:https://www.nutztierhomoeopathie.de/wp-content/uploads/2024/11/Tapen1.jpg
ORGANIZER;CN="Angela%20Lamminger":MAILTO:gela.lamminger@t-online.de
END:VEVENT
END:VCALENDAR