BEGIN:VCALENDAR
VERSION:2.0
PRODID:-//Nutztierhomoeopathie Birgit Gnadl &amp; Angela Lamminger - ECPv4.6.19//NONSGML v1.0//EN
CALSCALE:GREGORIAN
METHOD:PUBLISH
X-WR-CALNAME:Nutztierhomoeopathie Birgit Gnadl &amp; Angela Lamminger
X-ORIGINAL-URL:https://www.nutztierhomoeopathie.de
X-WR-CALDESC:Veranstaltungen für Nutztierhomoeopathie Birgit Gnadl &amp; Angela Lamminger
BEGIN:VEVENT
DTSTART;TZID=Europe/Berlin:20241209T190000
DTEND;TZID=Europe/Berlin:20241209T194500
DTSTAMP:20260423T112546
CREATED:20240715T102338Z
LAST-MODIFIED:20240715T102338Z
UID:3534-1733770800-1733773500@www.nutztierhomoeopathie.de
SUMMARY:Rund um den Mond - Einblicke in die Zusammenhänge mit Tier und Natur
DESCRIPTION:Webinar – Onlinekurs \nRund um den Mond\n\nEs ist faszinierend\, wie die Mondphasen Einfluss auf das Verhalten und die Gesundheit von Pferden haben können. Früher wurde dieses Phänomen intensiv beobachtet und aufgezeichnet und auch die Referentin dieses Webinars\, Angela Lamminger\, beschäftigt sich seit Jahren intensiv mit diesem Thema. \nDozentin: THP Angela Lamminger\nSeminarzeit: 19:00 – 19:45 Uhr\nKursgebühr: Kostenlos \nWebinar-Termin:   09.12.2024 \n\nInfos und Anmeldung zum Webinar: \nAnmeldung\n  \nWebinar-Inhalt: \n\n\nDurch die eigenen Erfahrungen\, Beobachtungen und Aufzeichnungen konnten deutliche Einflüsse der Mondphasen auf verschiedene Aspekte der Pferdehaltung festgestellt werden. Beim Anweiden beispielsweise hat sie bemerkt\, dass Pferde je nach Mondphase unterschiedlich auf neue Weideflächen reagieren. Auch beim Stallumzug oder der Eingliederung in eine neue Herde spielen die Mondphasen eine Rolle und können den Prozess beeinflussen.\nAuch bestimmte Tätigkeiten wie Zahnbehandlungen\, Hufpflege\, der Besuch des Schmieds\, das Impfen\, das Setzen von Zäunen oder die Parasitenbehandlung werden je nach Mondphase unterschiedlich gut vertragen. Sogar die Kastration oder das Absetzen von Fohlen von der Mutter können von den Mondphasen beeinflusst sein. \nInsgesamt zeigt sich\, dass die Mondphasen einen signifikanten Einfluss auf die Pferde und deren Wohlbefinden haben können. Durch die Berücksichtigung dieser Zusammenhänge können wir als Pferdehalter möglicherweise das Wohlergehen unserer Tiere verbessern und ihre Gesundheit unterstützen. Einen kleinen Einblick in genau diese Zusammenhänge möchte die Tierheilpraktikerin Angela Lamminger gerne in diesem Webinar vermitteln.\n\n\nDrucken
URL:https://www.nutztierhomoeopathie.de/event/rund-um-den-mond-einblicke-in-die-zusammenhaenge-mit-tier-und-natur/
CATEGORIES:Online-Seminare
ATTACH;FMTTYPE=image/jpeg:https://www.nutztierhomoeopathie.de/wp-content/uploads/2024/05/mond.jpg
ORGANIZER;CN="THP%20Schule%20Prester":MAILTO:info@thp-prester.de
END:VEVENT
END:VCALENDAR