BEGIN:VCALENDAR
VERSION:2.0
PRODID:-//Nutztierhomoeopathie Birgit Gnadl &amp; Angela Lamminger - ECPv4.6.19//NONSGML v1.0//EN
CALSCALE:GREGORIAN
METHOD:PUBLISH
X-WR-CALNAME:Nutztierhomoeopathie Birgit Gnadl &amp; Angela Lamminger
X-ORIGINAL-URL:https://www.nutztierhomoeopathie.de
X-WR-CALDESC:Veranstaltungen für Nutztierhomoeopathie Birgit Gnadl &amp; Angela Lamminger
BEGIN:VEVENT
DTSTART;TZID=Europe/Berlin:20251028T090000
DTEND;TZID=Europe/Berlin:20251028T160000
DTSTAMP:20260423T211919
CREATED:20180912T150221Z
LAST-MODIFIED:20251024T182739Z
UID:805-1761642000-1761667200@www.nutztierhomoeopathie.de
SUMMARY:Aufbauseminar Homöopathie für die Rinder - „Fit im Stall – Kuhgesundheit erkennen und gezielt handeln“
DESCRIPTION:89420 Höchstädt \nAufbauseminar Homöopathie für Rinder –\nTHEMA:\n„Fit im Stall – Kuhgesundheit erkennen und gezielt handeln“\nLeitung: Birgit Gnadl\, Dozentin und Buchautorin für ganzheitliche Rindergesundheit \nSeminartermin: 28.10.2025 \nSeminarzeit: 9:00 – 16:00 Uhr \nSeminarkosten: 110\,00 € inkl. Verpflegung \nAnmeldung: \nRiverGen e.V. \nRiverGen e. V.\, Ensbachstr. 17\, 89420 Höchstädt \nTel: 09074 955 90 \ninfo@rivergen.de \n  \nSeminarbeschreibung: \nEintagesseminar für Praktiker im Milchviehbetrieb \nSymptome deuten – richtig reagieren – natürlich unterstützen \nWelche Farbe und Bedeutung hat der Kälberdurchfall? Welche Klauenerkrankung steckt hinter Lahmheit? Was ist das für eine Schwellung an der Backe und wann helfen Hausmittel wie Essig\, Weißbier oder sogar Rotwein? \nDieses praxisnahe Seminar greift echte Fälle aus WhatsApp-Gruppen landwirtschaftlicher Betriebe auf. Mit anschaulichen Fotos\, kurzen Fallbeschreibungen und einem klar strukturierten Skript bekommst du das nötige Handwerkszeug\, um Krankheiten im Stall frühzeitig zu erkennen und angemessen zu reagieren – schulmedizinisch\, aber auch mit bewährten Hausmitteln und homöopathischen Ergänzungen. \nInhalte: \n\nTypische Symptome richtig deuten (Kälberdurchfall\, Klauenprobleme\, Verletzungen\, Euter & Co.)\nUrsachen verstehen und schnelle Ersteinschätzung lernen\nHomöopathische Begleitung und Dosierung in der Praxis\nHausmittel clever einsetzen: Wann hilft was wirklich?\n\nInklusive übersichtliches Skript mit Fotos\, Text & Tipps zum Nachschlagen \nIdeal für Betriebsleiter:innen\, Mitarbeiter:innen im Milchviehbetrieb und alle\, die gesunde Tiere im Stall wollen. \n  \nEs sind keine Vorkenntnisse erforderlich! \n  \nDrucken
URL:https://www.nutztierhomoeopathie.de/event/nosoden-zoonosen-und-prophylaktische-behandlungsmoeglichkeiten-mit-homoeopathie/
LOCATION:Ensbachstraße 17\, Höchstädt\, 89420\, Deutschland
CATEGORIES:Aufbauseminare,Basis-Seminare
ATTACH;FMTTYPE=image/jpeg:https://www.nutztierhomoeopathie.de/wp-content/uploads/2018/09/Stoffwechsel-und-Fütterung.jpg
ORGANIZER;CN="Birgit%20Gnadl":MAILTO:gnadl-lamminger@t-online.de
END:VEVENT
END:VCALENDAR