BEGIN:VCALENDAR
VERSION:2.0
PRODID:-//Nutztierhomoeopathie Birgit Gnadl &amp; Angela Lamminger - ECPv4.6.19//NONSGML v1.0//EN
CALSCALE:GREGORIAN
METHOD:PUBLISH
X-WR-CALNAME:Nutztierhomoeopathie Birgit Gnadl &amp; Angela Lamminger
X-ORIGINAL-URL:https://www.nutztierhomoeopathie.de
X-WR-CALDESC:Veranstaltungen für Nutztierhomoeopathie Birgit Gnadl &amp; Angela Lamminger
BEGIN:VEVENT
DTSTART;TZID=Europe/Berlin:20250327T090000
DTEND;TZID=Europe/Berlin:20250327T160000
DTSTAMP:20260425T174816
CREATED:20240531T102650Z
LAST-MODIFIED:20250213T084014Z
UID:3491-1743066000-1743091200@www.nutztierhomoeopathie.de
SUMMARY:Landwirtschaft zwischen Glück und Erschöpfung
DESCRIPTION:A- Tamsweg/Lungau \nLandwirtschaft zwischen Glück und Erschöpfung\nSeminartermin: 27.03.2025 \nSeminarzeit: 9:00 bis 16:00 Uhr \nSeminarleitung: \nAngela Lamminger Referentin für ganzheitliche Tiergesundheit \nSeminarort: Hotel Gambswirt\, Marktplatz 5\, A-5580 Tamsweg / Lungau \nAnmeldung: \nsbg.lfi.at \nAnna Rehrl   Tel: Tel 050 2595-3333 \nAnmelden zum Seminar\n  \n  \nSeminarinhalt: \nMensch und Tier werden Höchstleistungen abverlangt\, was beide immer mehr Kraft kostet. Gerade bei Bestandsproblemen ist es erforderlich mit einem ganzheitlichen Denkansatz eine Behandlung anzustreben (chronisch erhöhter Zellgehalt\, lebensschwache Kälber\, Kälberdurchfall\, Fruchtbarkeitsprobleme). \nWie erkennen wir an uns und unseren Tieren erste Anzeichen der Erschöpfung / Überforderung? \nMit Infos\, Tipps für den Alltag und Möglichkeiten zum Austausch soll dieser Tag allen Landwirtinnen und Landwirten Mut machen\, gemeinsam ein neues Selbstvertrauen und neue Kraftquellen für sich und die Arbeit am Hof zu finden. \nDrucken
URL:https://www.nutztierhomoeopathie.de/event/landwirtschaft-zwischen-glueck-und-erschoepfung-5/
LOCATION:Marktplatz 5\, Tamsweg\, Lungau\, 5580\, Österreich
CATEGORIES:Aufbauseminare,Basis-Seminare
ATTACH;FMTTYPE=image/jpeg:https://www.nutztierhomoeopathie.de/wp-content/uploads/2018/09/Glück-und-Erschöpfung.jpg
ORGANIZER;CN="Angela%20Lamminger":MAILTO:gela.lamminger@t-online.de
END:VEVENT
END:VCALENDAR