BEGIN:VCALENDAR
VERSION:2.0
PRODID:-//Nutztierhomoeopathie Birgit Gnadl &amp; Angela Lamminger - ECPv4.6.19//NONSGML v1.0//EN
CALSCALE:GREGORIAN
METHOD:PUBLISH
X-WR-CALNAME:Nutztierhomoeopathie Birgit Gnadl &amp; Angela Lamminger
X-ORIGINAL-URL:https://www.nutztierhomoeopathie.de
X-WR-CALDESC:Veranstaltungen für Nutztierhomoeopathie Birgit Gnadl &amp; Angela Lamminger
BEGIN:VEVENT
DTSTART;TZID=Europe/Berlin:20250113T090000
DTEND;TZID=Europe/Berlin:20250113T160000
DTSTAMP:20260423T161719
CREATED:20240531T093855Z
LAST-MODIFIED:20240708T112136Z
UID:3468-1736758800-1736784000@www.nutztierhomoeopathie.de
SUMMARY:Landwirtschaft zwischen Glück und Erschöpfung
DESCRIPTION:A- 5164 Seeham \nLandwirtschaft zwischen Glück und Erschöpfung\nSeminartermin: 13.01.2025 \nSeminarzeit: 9:00 bis 16:00 Uhr \nSeminarleitung: \nAngela Lamminger Referentin für ganzheitliche Tiergesundheit \nSeminarort: BioArt Campus\, Biodorf-Weg 4\, 5164 Seeham \nAnmeldung: \nsbg.lfi.at   Anna Rehrl \nTel 0043/50 2595-3333    anna.rehrl@lk-salzburg.at \nAnmelden zum Seminar\n  \nSeminarinhalt: \nMensch und Tier werden Höchstleistungen abverlangt\, was beide immer mehr Kraft kostet. Gerade bei Bestandsproblemen ist es erforderlich mit einem ganzheitlichen Denkansatz eine Behandlung anzustreben (chronisch erhöhter Zellgehalt\, lebensschwache Kälber\, Kälberdurchfall\, Fruchtbarkeitsprobleme). \nWie erkennen wir an uns und unseren Tieren erste Anzeichen der Erschöpfung / Überforderung? \nMit Infos\, Tipps für den Alltag und Möglichkeiten zum Austausch soll dieser Tag allen Landwirtinnen und Landwirten Mut machen\, gemeinsam ein neues Selbstvertrauen und neue Kraftquellen für sich und die Arbeit am Hof zu finden. \nDrucken
URL:https://www.nutztierhomoeopathie.de/event/landwirtschaft-zwischen-glueck-und-erschoepfung-4/
LOCATION:Biodorf-Weg 4\, Seeham\, 5164\, Österreich
CATEGORIES:Aufbauseminare,Basis-Seminare
ATTACH;FMTTYPE=image/jpeg:https://www.nutztierhomoeopathie.de/wp-content/uploads/2018/09/Glück-und-Erschöpfung.jpg
ORGANIZER;CN="Angela%20Lamminger":MAILTO:gela.lamminger@t-online.de
END:VEVENT
END:VCALENDAR