BEGIN:VCALENDAR
VERSION:2.0
PRODID:-//Nutztierhomoeopathie Birgit Gnadl &amp; Angela Lamminger - ECPv4.6.19//NONSGML v1.0//EN
CALSCALE:GREGORIAN
METHOD:PUBLISH
X-WR-CALNAME:Nutztierhomoeopathie Birgit Gnadl &amp; Angela Lamminger
X-ORIGINAL-URL:https://www.nutztierhomoeopathie.de
X-WR-CALDESC:Veranstaltungen für Nutztierhomoeopathie Birgit Gnadl &amp; Angela Lamminger
BEGIN:VEVENT
DTSTART;TZID=Europe/Berlin:20240219T093000
DTEND;TZID=Europe/Berlin:20240219T160000
DTSTAMP:20260423T155821
CREATED:20190529T160209Z
LAST-MODIFIED:20240214T095410Z
UID:1405-1708335000-1708358400@www.nutztierhomoeopathie.de
SUMMARY:ABGESAGT!!!! Aufbauseminar Homöopathie beim Rind - Alte Hausmittel neu entdeckt - als Ergänzung zur Homöopathie
DESCRIPTION:78166 – Donaueschingen\nAufbauseminar Homöopathie beim Rind – Hausmittel neu entdeckt – als Ergänzung zur Homöopathie\n\n\n\n\n\n\n\n\n\n\n\n\n\n\n\n\n\nSeminartermin: 19.02.2024 ABGESAGT – aufgrund zu weniger Anmeldungen! Es gibt neue Termine im Dezember 2024!! \nSeminarort: Aasemer Dorfcafe\, Klosterstraße 20a\, 78166 Donaueschingen \nhttp://www.aasemerdorfcafe.de/Kontakt/ \n\nSeminarzeit: 9:30 bis 16:00 Uhr\n\nSeminargebühr: 100 Euro\n\n\n\nLeitung: Angela Lamminger\, Dozentin für ganzheitliche Nutztiergesundheit\n\n\n\n\nAnmeldung: \nIGARI Praxisgemeinschaft Birgit Gnadl und Angela Lamminger\nFax: 08656 983839 oder kontakt@nutztierhomoeopathie.de\nwww.nutztierhomoeopathie. de \noder \nMarkus Traber\, Tel. 0175/407 3634 \n\n  \nSeminarinhalt:\n\nWundversorgung ganzheitlich betrachtet\nErstmaßnahmen in Notfall-Situationen\nHausmittel ergänzend eingesetzt\n\nGenereller Austausch über die homöopathischen und naturheilkundlichen Erfahrungen. \n\n  \n\n\n\n\n\n\n\n\n\n\n\n\n\nDrucken
URL:https://www.nutztierhomoeopathie.de/event/klauengesundheit-beim-rind/
LOCATION:Klosterstr. 20a\, Donaueschingen\, 78166\, Deutschland
CATEGORIES:Aufbauseminare
ATTACH;FMTTYPE=image/jpeg:https://www.nutztierhomoeopathie.de/wp-content/uploads/2018/06/Kuhfellbraun.jpg
ORGANIZER;CN="Angela%20Lamminger":MAILTO:gela.lamminger@t-online.de
END:VEVENT
END:VCALENDAR