BEGIN:VCALENDAR
VERSION:2.0
PRODID:-//Nutztierhomoeopathie Birgit Gnadl &amp; Angela Lamminger - ECPv4.6.19//NONSGML v1.0//EN
CALSCALE:GREGORIAN
METHOD:PUBLISH
X-WR-CALNAME:Nutztierhomoeopathie Birgit Gnadl &amp; Angela Lamminger
X-ORIGINAL-URL:https://www.nutztierhomoeopathie.de
X-WR-CALDESC:Veranstaltungen für Nutztierhomoeopathie Birgit Gnadl &amp; Angela Lamminger
BEGIN:VEVENT
DTSTART;TZID=Europe/Berlin:20240215T090000
DTEND;TZID=Europe/Berlin:20240215T160000
DTSTAMP:20260423T171648
CREATED:20220817T160924Z
LAST-MODIFIED:20240110T085351Z
UID:2965-1707987600-1708012800@www.nutztierhomoeopathie.de
SUMMARY:„Alte Hausmittel neu entdeckt“ – eine wertvolle Ergänzung zur homöopathischen Therapie“
DESCRIPTION:95030 Hof \n„Alte Hausmittel neu entdeckt“ – eine wertvolle Ergänzung zur homöopathischen Therapie“\nDieses Seminar ist sowohl für Einsteiger als auch für Fortgeschrittene geeignet. \nSeminartermin: 15.02.2024 \nSeminarzeit: 9-16 Uhr \nVeranstaltungsort: 95030 Hof/Wölbattendorf\, Landgasthof Grüne Linde\, Alte Helmbrechtstr. 30 \nReferentin: Birgit Gnadl\, Dozentin für ganzheitliche Nutztiergesundheit \nAnmeldung: Anmeldung bis spätestens 08.02.2024\n \nBayerischer Bauernverband\nGeschäftsstelle Hof / Bezirk Oberfranken\nHelmbrechtser Str. 22 – 95213 Münchberg\nTelefon: (0 92 51) 4 38 92 -0 Fax: (0 92 51) 4 38 92 19\nmailto:Hof@BayerischerBauernVerband.de\nwww.BayerischerBauernVerband.de \nDie Veranstaltung ist auch auf unserer Homepage www.BayerischerBauernVerband.de  und unter www.Bildung-Beratung-Bayern.de zu finden. \n  \nSeminarbeschreibung: \nIn diesem Seminar werden nach einer kurzen Praxisorientierten Einführung in die Homöopathie und die rechtlichen Voraussetzungen die verschiedenen Möglichkeiten des Einsatzes von Hausmitteln aber auch Homöopathie erläutert. \nErfolgreiche Behandlung bei folgenden Problemen: Mastitis\, Zellgehalt\, Stoffwechselprobleme\, Fruchtbarkeit\, Klauenprobleme\, Kälberdurchfall\, Grippe usw. \nJeder Seminarteilnehmer erhält umfangreiche Seminarunterlagen. \nDrucken
URL:https://www.nutztierhomoeopathie.de/event/klauen-und-gelenkerkrankungen-homoeopathisch-unterstuetzen/
LOCATION:Helmbrechtser Str. 30\, Hof-Wölbattendorf\, 95030\, Deutschland
CATEGORIES:Aufbauseminare,Basis-Seminare
ATTACH;FMTTYPE=image/jpeg:https://www.nutztierhomoeopathie.de/wp-content/uploads/2021/08/Hausmittel-iStock-1397899377.jpg
ORGANIZER;CN="Birgit%20Gnadl":MAILTO:gnadl-lamminger@t-online.de
END:VEVENT
END:VCALENDAR