BEGIN:VCALENDAR
VERSION:2.0
PRODID:-//Nutztierhomoeopathie Birgit Gnadl &amp; Angela Lamminger - ECPv4.6.19//NONSGML v1.0//EN
CALSCALE:GREGORIAN
METHOD:PUBLISH
X-WR-CALNAME:Nutztierhomoeopathie Birgit Gnadl &amp; Angela Lamminger
X-ORIGINAL-URL:https://www.nutztierhomoeopathie.de
X-WR-CALDESC:Veranstaltungen für Nutztierhomoeopathie Birgit Gnadl &amp; Angela Lamminger
BEGIN:VEVENT
DTSTART;TZID=Europe/Berlin:20250123T190000
DTEND;TZID=Europe/Berlin:20250123T193000
DTSTAMP:20260424T004958
CREATED:20240715T103414Z
LAST-MODIFIED:20240715T104005Z
UID:3539-1737658800-1737660600@www.nutztierhomoeopathie.de
SUMMARY:Infoabend "Homöopathische Konstitutionstypen beim Pferd"
DESCRIPTION:Webinar – Onlinekurs \nInfoabend „Homöopathische Konstitutionstypen beim Pferd“\n\nErfahre hier alles Wichtige rund um den Kurs Homöopathische Konstitutionstypen beim Pferd. \nDozentin: THP Angela Lamminger\nSeminarzeit: 19:00 – 19:30 Uhr\nGeeignet für: Interessierte Laien und (angehende) Therapeuten\nKursgebühr: Kostenlos \nWebinar-Termin:   23.01.2025 \n\nInfos und Anmeldung zum Webinar: \nAnmeldung\n  \nInhalte dann für das geplante ausführliche Konstitutionstypen-Seminar: \nKonstitutionsmittel sind homöopathische Arzneimittel\, die auf die Gesamtheit der körperlichen\, geistigen und emotionalen Eigenschaften eines Individuums abgestimmt sind. Sie werden nicht nur zur Behandlung akuter Symptome\, sondern vor allem zur langfristigen Stärkung und Harmonisierung des gesamten Organismus eingesetzt. \n\nDie Potenzen der homöopathischen Mittel reichen dabei von niedrigen Potenzen wie D6 bis hin zu höheren Potenzen wie C200. Die Wahl der Potenz hängt von der Schwere der Erkrankung und der Reaktion des Pferdes auf das Mittel ab. Die Mittelgabe in der Homöopathie erfolgt in der Regel in Form von Globuli\, die dem Pferd oral verabreicht werden. Die Dosierung und Häufigkeit der Mittelgabe werden individuell auf das jeweilige Pferd abgestimmt. Auch der Zusammenhang zwischen Besitzer und Pferd spielt in der homöopathischen Konstitutionsbehandlung eine sehr wichtige Rolle\, da die emotionale Verbindung zwischen beiden Einfluss auf das Verhaltensmuster und den Heilungsprozess haben kann. \nIn diesem Online-Kurs werden die Grundlagen der homöopathischen Konstitutionstherapie sowie die achtzehn häufigsten Konstitutionstypen beim Pferd besprochen (inkl. der Ausgangssubstanz des homöopathischen Mittels\, der passenden Potenz und der Art und Menge der Verabreichung). \n\nDrucken
URL:https://www.nutztierhomoeopathie.de/event/infoabend-homoeopathische-konstitutionstypen-beim-pferd/
CATEGORIES:Konstitutionstypen,Online-Seminare,Pferdeseminare
ATTACH;FMTTYPE=image/jpeg:https://www.nutztierhomoeopathie.de/wp-content/uploads/2024/05/konstitutionstypenpferd.jpg
ORGANIZER;CN="THP%20Schule%20Prester":MAILTO:info@thp-prester.de
END:VEVENT
END:VCALENDAR