BEGIN:VCALENDAR
VERSION:2.0
PRODID:-//Nutztierhomoeopathie Birgit Gnadl &amp; Angela Lamminger - ECPv4.6.19//NONSGML v1.0//EN
CALSCALE:GREGORIAN
METHOD:PUBLISH
X-WR-CALNAME:Nutztierhomoeopathie Birgit Gnadl &amp; Angela Lamminger
X-ORIGINAL-URL:https://www.nutztierhomoeopathie.de
X-WR-CALDESC:Veranstaltungen für Nutztierhomoeopathie Birgit Gnadl &amp; Angela Lamminger
BEGIN:VEVENT
DTSTART;TZID=Europe/Berlin:20251022T090000
DTEND;TZID=Europe/Berlin:20251022T160000
DTSTAMP:20260424T131004
CREATED:20250926T110417Z
LAST-MODIFIED:20251013T085518Z
UID:4027-1761123600-1761148800@www.nutztierhomoeopathie.de
SUMMARY:ABGESAGT!  Impulsvortrag Ganzheitliche Nutztierhomoeopathie - Fit für den Winter
DESCRIPTION:Schweiz – Flawil \nABGESAGT!Leider aufgrund zu weniger Anmeldungen abgesagt!\nImpulsvortrag Ganzheitliche Nutztierhomöopathie  \nThema: Fit für den Winter\nSeminarort: Mattenhof BZWU in Flawil/Schweiz \nSeminartermin: 22. Oktober 2025 \nSeminarkosten: 120 CHF inkl. Verpflegung \nSeminarleitung: Birgit Gnadl\, Dozentin für ganzheitliche Nutztiergesundheit (Praxisgemeinschaft mit Angela Lamminger) \nAnmeldung und weitere Infos: \n www.lzsg.ch \nInfos zum Seminar\nDrucken
URL:https://www.nutztierhomoeopathie.de/event/impulsvortrag-ganzheitliche-nutztierhomoeopathie/
CATEGORIES:Aufbauseminare,Basis-Seminare
ATTACH;FMTTYPE=image/png:https://www.nutztierhomoeopathie.de/wp-content/uploads/2019/08/Fit-für-den-Winter.png
END:VEVENT
END:VCALENDAR