BEGIN:VCALENDAR
VERSION:2.0
PRODID:-//Nutztierhomoeopathie Birgit Gnadl &amp; Angela Lamminger - ECPv4.6.19//NONSGML v1.0//EN
CALSCALE:GREGORIAN
METHOD:PUBLISH
X-WR-CALNAME:Nutztierhomoeopathie Birgit Gnadl &amp; Angela Lamminger
X-ORIGINAL-URL:https://www.nutztierhomoeopathie.de
X-WR-CALDESC:Veranstaltungen für Nutztierhomoeopathie Birgit Gnadl &amp; Angela Lamminger
BEGIN:VEVENT
DTSTART;TZID=Europe/Berlin:20250304T190000
DTEND;TZID=Europe/Berlin:20250415T210000
DTSTAMP:20260424T190154
CREATED:20240715T104933Z
LAST-MODIFIED:20240715T110536Z
UID:3543-1741114800-1744750800@www.nutztierhomoeopathie.de
SUMMARY:Homöopathische Konstitutionstypen beim Pferd
DESCRIPTION:Webinar – Onlinekurs \nHomöopathische Konstitutionstypen beim Pferd\n\nKonstitutionsmittel sind homöopathische Arzneimittel\, die auf die Gesamtheit der körperlichen\, geistigen und emotionalen Eigenschaften eines Individuums abgestimmt sind. Sie werden nicht nur zur Behandlung akuter Symptome\, sondern vor allem zur langfristigen Stärkung und Harmonisierung des gesamten Organismus eingesetzt. \nDozentin: THP Angela Lamminger\nSeminarzeit: 19:00 – 21:00 Uhr\nGeeignet für: Interessierte Laien und (angehende) Therapeuten\nKursgebühr: 299\,00 € \nWebinar-Termine:\n \nDas Webinar besteht aus 6 Teilen: \n1. Dienstag\, 4. März 2025\, 19:00 – ca. 21:00 Uhr\n2. Dienstag\, 18. März 2025\, 19:00 – ca. 21:00 Uhr\n3. Dienstag\, 25. März 2025\, 19:00 – ca. 21:00 Uhr\n4. Dienstag\, 1. April 2025\, 19:00 – ca. 21:00 Uhr\n5. Dienstag\, 8. April 2025\, 19:00 – ca. 21:00 Uhr\n6. Dienstag\, 15. April 2025\, 19:00 – ca. 21:00 Uhr \n\n  \nInfos und Anmeldung zum Webinar: \nAnmeldung\n  \nWebinar-Inhalt: \n\n\nDie Potenzen der homöopathischen Mittel reichen dabei von niedrigen Potenzen wie D6 bis hin zu höheren Potenzen wie C200. Die Wahl der Potenz hängt von der Schwere der Erkrankung und der Reaktion des Pferdes auf das Mittel ab. Die Mittelgabe in der Homöopathie erfolgt in der Regel in Form von Globuli\, die dem Pferd oral verabreicht werden. Die Dosierung und Häufigkeit der Mittelgabe werden individuell auf das jeweilige Pferd abgestimmt.\nAuch der Zusammenhang zwischen Besitzer und Pferd spielt in der homöopathischen Konstitutionsbehandlung eine sehr wichtige Rolle\, da die emotionale Verbindung zwischen beiden Einfluss auf das Verhaltensmuster und den Heilungsprozess haben kann.In diesem Online-Kurs werden die Grundlagen der homöopathischen Konstitutionstherapie sowie die achtzehn häufigsten Konstitutionstypen beim Pferd besprochen (inkl. der Ausgangssubstanz des homöopathischen Mittels\, der passenden Potenz und der Art und Menge der Verabreichung).\n\n\nDas Seminarmaterial in Form eines Skriptes wird von der Schule gestellt. \nDrucken
URL:https://www.nutztierhomoeopathie.de/event/homoeopathische-konstitutionstypen-beim-pferd/
CATEGORIES:Konstitutionstypen,Online-Seminare,Pferdeseminare
ATTACH;FMTTYPE=image/jpeg:https://www.nutztierhomoeopathie.de/wp-content/uploads/2024/05/konstitutionstypenpferd.jpg
ORGANIZER;CN="THP%20Schule%20Prester":MAILTO:info@thp-prester.de
END:VEVENT
END:VCALENDAR