BEGIN:VCALENDAR
VERSION:2.0
PRODID:-//Nutztierhomoeopathie Birgit Gnadl &amp; Angela Lamminger - ECPv4.6.19//NONSGML v1.0//EN
CALSCALE:GREGORIAN
METHOD:PUBLISH
X-WR-CALNAME:Nutztierhomoeopathie Birgit Gnadl &amp; Angela Lamminger
X-ORIGINAL-URL:https://www.nutztierhomoeopathie.de
X-WR-CALDESC:Veranstaltungen für Nutztierhomoeopathie Birgit Gnadl &amp; Angela Lamminger
BEGIN:VEVENT
DTSTART;TZID=Europe/Berlin:20231005T080000
DTEND;TZID=Europe/Berlin:20231006T170000
DTSTAMP:20260424T084804
CREATED:20220817T151242Z
LAST-MODIFIED:20230927T155957Z
UID:2941-1696492800-1696611600@www.nutztierhomoeopathie.de
SUMMARY:Homöopathie in der Rinderhaltung - für Betriebshelfer
DESCRIPTION:Am Petersberg \nAufbauseminar Ganzheitliche Behandlung im Milchviehbetrieb\n– Seminar speziell für Betriebshelfer –\nTHEMA: Ganzheitliche Betrachtung und homöopathische Unterstützung bei Schmerzen und Notfällen im Milchviehbetrieb.\nProphylaxe allgemein und übertragbare Erkrankungen im Milchviehbetrieb (Zoonosen)\nSeminartermin: 05. und 06.10.2023 \nVeranstaltungsort: Haus der Bayerischen Landwirtschaft in Herrsching \nReferentin: \nBirgit Gnadl\, Dozentin und landwirtschaftliche Beratung für ganzheitliche Nutztiergesundheit\n \nAnmeldung: \nHaus der bayerischen Landwirtschaft\nRieder Str. 70\, 82211 Herrsching am Ammersee\nTel.: 08152-938-000 \nwww.bayerischerbauernverband.de \n  \nJeder Seminarteilnehmer enthält sehr umfangreiche Seminarunterlagen. \n  \nHomöopathische Vorkenntnisse erforderlich. \nDrucken
URL:https://www.nutztierhomoeopathie.de/event/homoeopathie-in-der-rinderhaltung-fuer-betriebshelfer/
LOCATION:Riederstr. 70\, Herrsching am ammersee\, 82211\, Deutschland
CATEGORIES:Aufbauseminare
ATTACH;FMTTYPE=image/jpeg:https://www.nutztierhomoeopathie.de/wp-content/uploads/2018/06/Kuhfellbraun.jpg
ORGANIZER;CN="Birgit%20Gnadl":MAILTO:gnadl-lamminger@t-online.de
END:VEVENT
END:VCALENDAR