BEGIN:VCALENDAR
VERSION:2.0
PRODID:-//Nutztierhomoeopathie Birgit Gnadl &amp; Angela Lamminger - ECPv4.6.19//NONSGML v1.0//EN
CALSCALE:GREGORIAN
METHOD:PUBLISH
X-WR-CALNAME:Nutztierhomoeopathie Birgit Gnadl &amp; Angela Lamminger
X-ORIGINAL-URL:https://www.nutztierhomoeopathie.de
X-WR-CALDESC:Veranstaltungen für Nutztierhomoeopathie Birgit Gnadl &amp; Angela Lamminger
BEGIN:VEVENT
DTSTART;TZID=Europe/Berlin:20250219T190000
DTEND;TZID=Europe/Berlin:20250219T210000
DTSTAMP:20260424T133453
CREATED:20240715T103842Z
LAST-MODIFIED:20240715T103842Z
UID:3541-1739991600-1739998800@www.nutztierhomoeopathie.de
SUMMARY:Homöopathie für Pferde - Hufrehe ganzheitlich betrachtet
DESCRIPTION:Webinar – Onlinekurs \nHufrehe ganzheitlich betrachtet – Homöopathie für Pferde\n\nDie Hufrehe\, eine Entzündung der Huflederhaut\, ist eine der gefürchtetsten Krankheiten im Pferdebereich. \nDozentin: THP Angela Lamminger\nSeminarzeit: 19:00 – 21:00 Uhr\nGeeignet für: Interessierte Laien und (angehende) Therapeuten\nKursgebühr: 49 € \nWebinar-Termin:   27.11.2024 \n\nInfos und Anmeldung zum Webinar: \nAnmeldung\nAchtung: Für dieses Webinar werden Grundkenntnisse in der Homöopathie benötigt. \n  \nWebinar-Inhalt: \n\n\nIn diesem Webinar stellt die Tierheilpraktikerin Angela Lamminger verschiedenste Auslöser und Ursachen für Hufrehe vor. Zusätzlich zeigt sie auf\, wie man Symptome und Anzeichen rechtzeitig erkennen kann.\nUmfangreiche Seminarunterlagen werden von der THP-Schule zur Verfügung gestellt.\n\n\nDrucken
URL:https://www.nutztierhomoeopathie.de/event/homoeopathie-fuer-pferde-hufrehe-ganzheitlich-betrachtet/
CATEGORIES:Aufbauseminare,Online-Seminare,Pferdeseminare
ATTACH;FMTTYPE=image/jpeg:https://www.nutztierhomoeopathie.de/wp-content/uploads/2024/05/hufrehe.jpg
ORGANIZER;CN="THP%20Schule%20Prester":MAILTO:info@thp-prester.de
END:VEVENT
END:VCALENDAR