BEGIN:VCALENDAR
VERSION:2.0
PRODID:-//Nutztierhomoeopathie Birgit Gnadl &amp; Angela Lamminger - ECPv4.6.19//NONSGML v1.0//EN
CALSCALE:GREGORIAN
METHOD:PUBLISH
X-WR-CALNAME:Nutztierhomoeopathie Birgit Gnadl &amp; Angela Lamminger
X-ORIGINAL-URL:https://www.nutztierhomoeopathie.de
X-WR-CALDESC:Veranstaltungen für Nutztierhomoeopathie Birgit Gnadl &amp; Angela Lamminger
BEGIN:VEVENT
DTSTART;TZID=Europe/Berlin:20231013T090000
DTEND;TZID=Europe/Berlin:20231013T160000
DTSTAMP:20260424T071611
CREATED:20230724T150429Z
LAST-MODIFIED:20231007T162152Z
UID:3289-1697187600-1697212800@www.nutztierhomoeopathie.de
SUMMARY:ABGESAGT! Grundlagenseminar Pferdegesundheit ganzheitlich betrachtet und Möglichkeiten der Homöopathie
DESCRIPTION:A-5730 Mittersill \nGrundlagenseminar\n„Pferdegesundheit ganzheitlich betrachtet und Möglichkeiten der natürlichen Unterstützung (Homöopathie\, Bachblüten)“\nSeminartermin: 13. Oktober 2023 – Leider wegen zu wenig Anmeldungen abgesagt – voraussichtlich neuer Termin im Frühjahr 2024 \nSeminarzeit: 9:00 bis 16:00 Uhr \nSeminarort: Gasthof Haidbach\, Oberfelben 8\, A-5730 Mittersill \nSeminarleitung: Angela Lamminger\, Referentin für ganzheitliche Nutztiergesundheit \nAnmeldung: \nLFI Salzburg – Ländliches Fortbildungsinstitut \nMaria-Cebotari-Straße 5\, A-5020 Salzburg \nTel. +43 662 641248337     magdalena.sigl@lk-salzburg.at \nwww.sbg.lfi.at \nSeminarbeschreibung: \n\nEinführung in die Grundlagen der klassischen Homöopathie des Samuel Hahnemann\, und die selbständige Anwendung\nStallapotheke (Homöopathie\, Bachblüten\, ……)\nHomöopathische Behandlung in Notfallsituationen\nZwanghafte Verhaltensweisen/ Verhaltenprobleme (z. B. Sattelzwang\, Prüfungs- und Leistungsstress\, Schreckhaftigkeit)\nHomöopathische Versorgung rund um die Geburt\n\nJeder Seminarteilnehmer enthält ein umfangreiches Skript. \nKeine Vorkenntnisse notwendig. \nDrucken
URL:https://www.nutztierhomoeopathie.de/event/grundlagenseminar-pferdegesundheit-ganzheitlich-betrachtet-und-moeglichkeiten-der-homoeopathie/
LOCATION:Oberfelben 8\, Mittersill\, 5730\, Österreich
CATEGORIES:Basis-Seminare,Pferdeseminare
ATTACH;FMTTYPE=image/jpeg:https://www.nutztierhomoeopathie.de/wp-content/uploads/2018/09/Pferde.jpg
ORGANIZER;CN="Angela%20Lamminger":MAILTO:gela.lamminger@t-online.de
END:VEVENT
END:VCALENDAR