BEGIN:VCALENDAR
VERSION:2.0
PRODID:-//Nutztierhomoeopathie Birgit Gnadl &amp; Angela Lamminger - ECPv4.6.19//NONSGML v1.0//EN
CALSCALE:GREGORIAN
METHOD:PUBLISH
X-WR-CALNAME:Nutztierhomoeopathie Birgit Gnadl &amp; Angela Lamminger
X-ORIGINAL-URL:https://www.nutztierhomoeopathie.de
X-WR-CALDESC:Veranstaltungen für Nutztierhomoeopathie Birgit Gnadl &amp; Angela Lamminger
BEGIN:VEVENT
DTSTART;TZID=Europe/Berlin:20251023T090000
DTEND;TZID=Europe/Berlin:20251024T160000
DTSTAMP:20260423T235250
CREATED:20250801T155824Z
LAST-MODIFIED:20250801T155824Z
UID:3983-1761210000-1761321600@www.nutztierhomoeopathie.de
SUMMARY:Grundlagenseminar Homöopathie im Milchviehbetrieb
DESCRIPTION:A-5532 Filzmoos \nGrundlagenseminar Homöopathie im Milchviehbetrieb\nSeminarort: Freizeitzentrum Filzmoos\, Schwimmbadweg 1\, A-5532 Filzmoos \nSeminartermin: 23. und 24.10.2025 \nSeminarzeit: 9:00-16:00 Uhr \nSeminargebühr: 239\,00 € ohne Förderung \n83\,00 € mit Förderung. Das Seminar wird im Rahmen  der Bildungsförderung der Ländlichen Entwicklung gefördert \nLeitung: Angela Lamminger\, Referentin für ganzheitliche Pferde- und Nutztiergesundheit \nAnmeldung: \nLFI Salzburg – Ländliches Fortbildungsinstitut \nSchwarzstr. 19\, A-5020 Salzburg \nTel. +43 50 2595-3337     magdalena.sigl@lk-salzburg.at \nwww.sbg.lfi.at \n  \nSeminarinhalt: \n Tag 9.00 -16.00 Uhr \n\nEinführung in die Grundlagen der klassischen Homöopathie des Samuel Hahnemann\, Arzneimittelrecht\, Verordnungen allgemein und Wichtiges zur selbständigen und verantwortungsbewussten Anwendung\nStallapotheke\nHomöopathische Geburtshilfe\nEuterkrankheiten\nGebärparese\, Festliegen\, Kalbefieber\n\n\nTag 9.00 -16.00 Uhr\n\n\nKälberdurchfall/Kälberkrankheiten\nKrankheiten der weiblichen Geschlechtsorgane\nFruchtbarkeit\n\nJeder Seminarteilnehmer erhält sehr umfangreiche Seminarunterlagen. \nKeine Vorkenntnisse notwendig. \nDrucken
URL:https://www.nutztierhomoeopathie.de/event/grundlagenseminar-homoeopathie-im-milchviehbetrieb-4/
LOCATION:Schwimmbadweg 1\, Filzmoos\, 5532\, Österreich
CATEGORIES:Basis-Seminare
ATTACH;FMTTYPE=image/jpeg:https://www.nutztierhomoeopathie.de/wp-content/uploads/2018/06/Kuhfellbraun.jpg
END:VEVENT
END:VCALENDAR