BEGIN:VCALENDAR
VERSION:2.0
PRODID:-//Nutztierhomoeopathie Birgit Gnadl &amp; Angela Lamminger - ECPv4.6.19//NONSGML v1.0//EN
CALSCALE:GREGORIAN
METHOD:PUBLISH
X-WR-CALNAME:Nutztierhomoeopathie Birgit Gnadl &amp; Angela Lamminger
X-ORIGINAL-URL:https://www.nutztierhomoeopathie.de
X-WR-CALDESC:Veranstaltungen für Nutztierhomoeopathie Birgit Gnadl &amp; Angela Lamminger
BEGIN:VEVENT
DTSTART;TZID=Europe/Berlin:20250322T090000
DTEND;TZID=Europe/Berlin:20250322T160000
DTSTAMP:20260425T145252
CREATED:20241129T073216Z
LAST-MODIFIED:20241129T090617Z
UID:3787-1742634000-1742659200@www.nutztierhomoeopathie.de
SUMMARY:Grundlagenseminar - Homöopathie für Pferde
DESCRIPTION:87480 Weitnau-Hellengerst \nGrundlagenseminar „Homöopathie für Pferde“\nSeminartermin: 22.03.2025 \nSeminarzeit: 9:00 bis 16:00 Uhr \nSeminarort: Arche-Hof Birk\, Helingerstraße 9\, 87480 Weitnau  – vor Ort ist für eine hervorragende Verpflegung gesorgt! \nSeminarleitung: Angela Lamminger\, Dozentin für ganzheitliche Pferde- und Nutztiergesundheit (Praxisgemeinschaft mit Birgit Gnadl) \nSeminarkosten: 120\,00 Euro inkl. umfangreicher und hochwertiger Seminarunterlagen \nAnmeldung: \nTHP Praxisgemeinschaft Birgit Gnadl und Angela Lamminger\n \nwww.nutztierhomoeopathie.de     E-Mail: kontakt@pferdehomoeopathie.de \n  \nSeminarbeschreibung \n\nDieses Seminar zeigt ganzheitliche Behandlungsmöglichkeiten für Pferde und ist geeignet für Freizeitreiter*innen\, Züchter*innen\, Pferdebesitzer*innen und alle\, die an Pferden interessiert sind. \nIm Mittelpunkt steht die ganzheitliche Betrachtung der Pferdegesundheit. Sie befähigt die Teilnehmenden\, gesundheitliche Probleme des Pferdes frühzeitig zu erkennen. Im Seminar gibt es Tipps für Erstmaßnahmen mit einfachsten Mitteln. \n\n\nProgramm\nDer Schwerpunkt in diesem Seminar liegt in der homöopathischen Behandlung von Pferden. Die Homöopathie\, welche von Samuel Hahnemann begründet wurde\, ist grundsätzlich auf alle Lebewesen und somit auch auf Pferde sehr gut übertragbar. Sowohl für akute als auch für chronische Erkrankungen gibt es beim Pferd zahlreiche Möglichkeiten der unterstützenden Behandlung. \nInhalt: \n\nEinführung in die Grundlagen der klassischen Homöopathie des Samuel Hahnemann und die selbständige verantwortungsbewusste Anwendung\nArzneimittelrecht und relevante Verordnung zur Anwendung der Naturheilkunde beim Pferd\nÜberblick über eine gut sortierte Stallapotheke\nHomöopathische Notfall-Apotheke\nHomöopathische Behandlung und Erstmaßnahmen in Notfallsituationen (z.B. bei einer Kolik)\nVerhaltensprobleme (Schreckhaftigkeit\, Ängstlichkeit\, …..)\nHomöopathische Begleitung von Stute und Fohlen rund um Geburt\n\nUmfangreiches Skriptmaterial ist in den Seminargebühren enthalten.\nEs sind keine homöopathischen Vorkenntnisse notwendig. \n\nDrucken
URL:https://www.nutztierhomoeopathie.de/event/grundlagenseminar-homoeopathie-fuer-pferde-8/
LOCATION:Helinger Str. 9\, Weitnau\, 87480\, Deutschland
CATEGORIES:Basis-Seminare,Pferdeseminare
ATTACH;FMTTYPE=image/jpeg:https://www.nutztierhomoeopathie.de/wp-content/uploads/2022/09/Pferde-GK.jpg
ORGANIZER;CN="Angela%20Lamminger":MAILTO:gela.lamminger@t-online.de
END:VEVENT
END:VCALENDAR