BEGIN:VCALENDAR
VERSION:2.0
PRODID:-//Nutztierhomoeopathie Birgit Gnadl &amp; Angela Lamminger - ECPv4.6.19//NONSGML v1.0//EN
CALSCALE:GREGORIAN
METHOD:PUBLISH
X-WR-CALNAME:Nutztierhomoeopathie Birgit Gnadl &amp; Angela Lamminger
X-ORIGINAL-URL:https://www.nutztierhomoeopathie.de
X-WR-CALDESC:Veranstaltungen für Nutztierhomoeopathie Birgit Gnadl &amp; Angela Lamminger
BEGIN:VEVENT
DTSTART;TZID=Europe/Berlin:20250317T090000
DTEND;TZID=Europe/Berlin:20250317T160000
DTSTAMP:20260425T103722
CREATED:20240214T111849Z
LAST-MODIFIED:20250308T132626Z
UID:3414-1742202000-1742227200@www.nutztierhomoeopathie.de
SUMMARY:Grundlagenseminar - Homöopathie für Pferde
DESCRIPTION:82401 Rottenbuch \nGrundlagenseminar „Homöopathie für Pferde“\nNEUER Seminarort: Schönegger Käsealm\, Schönegg 6\, 82401 Rottenbuch \nSeminartermin: 17.03.2025 \nSeminarzeit: 9:00 bis 16:00 Uhr \nSeminarleitung: Angela Lamminger\, Dozentin für ganzheitliche Pferde- und Nutztiergesundheit (Praxisgemeinschaft mit Birgit Gnadl) \nSeminarkosten: 150\,00 Euro (inkl. Verpflegung und sehr umfangreichen Seminarunterlagen) \nAnmeldung: \nTHP Praxisgemeinschaft Birgit Gnadl & Angela Lamminger \nE-Mail: kontakt@pferdehomoeopathie.de  oder Antonia Reßle \n  \nSeminarbeschreibung \n\nDieses Seminar zeigt ganzheitliche Behandlungsmöglichkeiten für Pferde und ist geeignet für Freizeitreiter*innen\, Züchter*innen\, Pferdebesitzer*innen und alle\, die an Pferden interessiert sind. \nIm Mittelpunkt steht die ganzheitliche Betrachtung der Pferdegesundheit. Sie befähigt die Teilnehmenden\, gesundheitliche Probleme des Pferdes frühzeitig zu erkennen. Im Seminar gibt es Tipps für Erstmaßnahmen mit einfachsten Mitteln. \n\n\nProgramm\nDer Schwerpunkt in diesem Seminar liegt in der homöopathischen Behandlung von Pferden. Die Homöopathie\, welche von Samuel Hahnemann begründet wurde\, ist grundsätzlich auf alle Lebewesen und somit auch auf Pferde sehr gut übertragbar. Sowohl für akute als auch für chronische Erkrankungen gibt es beim Pferd zahlreiche Möglichkeiten der unterstützenden Behandlung. \nInhalt: \n\nEinführung in die Grundlagen der klassischen Homöopathie des Samuel Hahnemann und die selbständige verantwortungsbewusste Anwendung\nArzneimittelrecht und relevante Verordnung zur Anwendung der Naturheilkunde beim Pferd\nÜberblick über eine gut sortierte Stallapotheke\nHomöopathische Notfall-Apotheke\nHomöopathische Behandlung und Erstmaßnahmen in Notfallsituationen (z.B. bei einer Kolik)\nVerhaltensprobleme (Schreckhaftigkeit\, Ängstlichkeit\, …..)\nHomöopathische Begleitung von Stute und Fohlen rund um Geburt\n\nUmfangreiches Skriptmaterial ist in den Seminargebühren enthalten.\nEs sind keine homöopathischen Vorkenntnisse notwendig. \n\nDrucken
URL:https://www.nutztierhomoeopathie.de/event/grundlagenseminar-homoeopathie-fuer-pferde-5/
CATEGORIES:Basis-Seminare,Pferdeseminare
ATTACH;FMTTYPE=image/jpeg:https://www.nutztierhomoeopathie.de/wp-content/uploads/2018/09/Pferde.jpg
ORGANIZER;CN="Angela%20Lamminger":MAILTO:gela.lamminger@t-online.de
END:VEVENT
END:VCALENDAR