BEGIN:VCALENDAR
VERSION:2.0
PRODID:-//Nutztierhomoeopathie Birgit Gnadl &amp; Angela Lamminger - ECPv4.6.19//NONSGML v1.0//EN
CALSCALE:GREGORIAN
METHOD:PUBLISH
X-WR-CALNAME:Nutztierhomoeopathie Birgit Gnadl &amp; Angela Lamminger
X-ORIGINAL-URL:https://www.nutztierhomoeopathie.de
X-WR-CALDESC:Veranstaltungen für Nutztierhomoeopathie Birgit Gnadl &amp; Angela Lamminger
BEGIN:VEVENT
DTSTART;TZID=Europe/Berlin:20230927T090000
DTEND;TZID=Europe/Berlin:20230928T160000
DTSTAMP:20260424T100918
CREATED:20230724T144836Z
LAST-MODIFIED:20230724T144836Z
UID:3283-1695805200-1695916800@www.nutztierhomoeopathie.de
SUMMARY:Grundlagenseminar Ganzheitliche Rindergesundheit\, Schwerpunkt Homöopathie
DESCRIPTION:A-St. Michael/Lungau\n \nGrundlagenseminar Ganzheitliche Rindergesundheit\nSchwerpunkt „Homöopathie für Rinder“\nVeranstaltungsort: Hapimag Resort St. Michael\, Gerichtsstrasse 415\, 5582 St. Michael im Lungau Österreich \nSeminartermin: 27. und 28. September 2023 \nSeminarzeit: 9-16 Uhr \nLeitung: Angela Lamminger\, Referentin für ganzheitliche Nutztiergesundheit\n \nAnmeldung: \nLFI Salzburg – Ländliches Fortbildungsinstitut \nMaria-Cebotari-Straße 5\, A-5020 Salzburg \nTel. +43 662 641248337     magdalena.sigl@lk-salzburg.at \nwww.sbg.lfi.at \nTag 9.00 -16.00 Uhr \n\nEinführung in die Grundlagen der klassischen Homöopathie des Samuel Hahnemann\, und die selbständige Anwendung\nStallapotheke\nHomöopathische Geburtshilfe\nEuterkrankheiten\nGebärparese\, Festliegen\, Kalbefieber\n\n\nTag 9.00 -16.00 Uhr\n\n\nKälberdurchfall/Kälberkrankheiten\nKrankheiten der weiblichen Geschlechtsorgane\nFruchtbarkeit\nEinblicke in die Erkrankungen der Gelenke und Klauen\n\nJeder Seminarteilnehmer enthält sehr umfangreiche Seminarunterlagen \nKeine Vorkenntnisse notwendig. \n  \nDrucken
URL:https://www.nutztierhomoeopathie.de/event/grundlagenseminar-ganzheitliche-rindergesundheit-schwerpunkt-homoeopathie-2/
LOCATION:Gerichtsstraße 415\, St. Michael im Lungau\, 5582\, Österreich
CATEGORIES:Basis-Seminare
ATTACH;FMTTYPE=image/jpeg:https://www.nutztierhomoeopathie.de/wp-content/uploads/2018/06/Kuhfellbraun.jpg
ORGANIZER;CN="Angela%20Lamminger":MAILTO:gela.lamminger@t-online.de
END:VEVENT
END:VCALENDAR