BEGIN:VCALENDAR
VERSION:2.0
PRODID:-//Nutztierhomoeopathie Birgit Gnadl &amp; Angela Lamminger - ECPv4.6.19//NONSGML v1.0//EN
CALSCALE:GREGORIAN
METHOD:PUBLISH
X-WR-CALNAME:Nutztierhomoeopathie Birgit Gnadl &amp; Angela Lamminger
X-ORIGINAL-URL:https://www.nutztierhomoeopathie.de
X-WR-CALDESC:Veranstaltungen für Nutztierhomoeopathie Birgit Gnadl &amp; Angela Lamminger
BEGIN:VEVENT
DTSTART;TZID=Europe/Berlin:20231117T090000
DTEND;TZID=Europe/Berlin:20231117T160000
DTSTAMP:20260424T044112
CREATED:20230927T161445Z
LAST-MODIFIED:20230927T161445Z
UID:3309-1700211600-1700236800@www.nutztierhomoeopathie.de
SUMMARY:Duales Agrar-Event – Tiergesundheit (er)halten
DESCRIPTION:Duales Agrar-Event – Tiergesundheit (er)halten\n\n17. November 2023  | 09:00 – 16:00 Uhr \n\n\n Wo? Chiemgau Akademie | EM-Chiemgau\, Högeringer Str. 25\, 83071 Stephanskirchen oder Online via Zoom \n\nTeilnehmerbeitrag: Online: 50 € | Präsenz: 80 € inkl. MwSt.\nTeilnahme in Präsenz inkl. Mittagsessen \nAnmeldung:\nhttps://em-chiemgau.de/veranstaltung/duales-agrar-event-tiergesundheit-erhalten-17-11-23/ \nDuales Tagesseminar zum Thema „probiotische Milieusteuerung mit effektiven Mikroorganismen\, Fermenten\, Pflanzenkohle und Homöopathie beim Nutztier“ mit Tierheilpraktikerin Birgit Gnadl\, EM Chiemgau-Gründer Christoph Fischer und Fütterungs-Spezialist Dipl. Ing. Agr. Ueli Rothenbühler \nDein Ziel sind geringe Tierarztkosten\, vitale Tiere\, eine hohe Lebensleistung in der Zucht\, konstante Zunahmen in der Mast\, gute Luft und weniger Fliegen im Stall? \nFür uns gehört das Zusammen! \n  \nInhalte des Tagesseminars:\nFütterungsoptimierung mit Fermenten (CFKE)\, Bokashi und Futterkohle: \n\nstabile Silagen\noptimale Mast- und Milchleistung (Geflügelhaltung\, Schweine\, Rinder)\n\nEffektive Kreislaufwirtschaft\, Gülle- und Mistaufbereitung und Milieusteuerung im Stall: \n\nTiergesundheit beginnt mit der richtigen Düngung\nHygienisierung von Gülle und Mist\, Infektionsketten effizient unterbrechen\n\nHomöopathische Behandlungsansätze in der Nutztierhaltung: \n\nBestandsprobleme schneller analysieren und beheben\n\nPraxisnahe Tipps\, ein langjähriges Netzwerk aus regenerativ wirtschaftenden Landwirten des Rosenheimer Projekts und ein reger Austausch sind stets Teil dieser Veranstaltungen. \nLass dir diese Möglichkeit zum Austausch und zur Weiterbildung nicht entgehen! \nDrucken
URL:https://www.nutztierhomoeopathie.de/event/duales-agrar-event-tiergesundheit-erhalten/
LOCATION:Hörgeringer Str. 25\, Stephanskirchen\, 83071\, Deutschland
ATTACH;FMTTYPE=image/jpeg:https://www.nutztierhomoeopathie.de/wp-content/uploads/2023/09/Eventheader-GB-Duales-Tagesseminar-Tiergesundheit.jpg
ORGANIZER;CN="Birgit%20Gnadl":MAILTO:kontakt@nutztierhomoeopathie.de
END:VEVENT
END:VCALENDAR