BEGIN:VCALENDAR
VERSION:2.0
PRODID:-//Nutztierhomoeopathie Birgit Gnadl &amp; Angela Lamminger - ECPv4.6.19//NONSGML v1.0//EN
CALSCALE:GREGORIAN
METHOD:PUBLISH
X-WR-CALNAME:Nutztierhomoeopathie Birgit Gnadl &amp; Angela Lamminger
X-ORIGINAL-URL:https://www.nutztierhomoeopathie.de
X-WR-CALDESC:Veranstaltungen für Nutztierhomoeopathie Birgit Gnadl &amp; Angela Lamminger
BEGIN:VEVENT
DTSTART;TZID=Europe/Berlin:20231103T093000
DTEND;TZID=Europe/Berlin:20231103T153000
DTSTAMP:20260424T055351
CREATED:20210826T133651Z
LAST-MODIFIED:20230927T160507Z
UID:2257-1699003800-1699025400@www.nutztierhomoeopathie.de
SUMMARY:CH-Hildisrieden   -   Fütterungsbedingte Klauenerkrankungen
DESCRIPTION:Fütterungsbedingte Klauenerkrankungen\n \nSeminarort: CH-Hildisrieden \nSeminartermin: 03.11.2023 \nSeminarzeit: 9:30-15:30 Uhr \nSeminarleitung: Birgit Gnadl\, Dozentin für Nutztiergesundheit\, Deutschland \nAnmeldung: http://www.nutri-form.ch\n  \nDrucken
URL:https://www.nutztierhomoeopathie.de/event/ch-hildisrieden-optimierte-mineralstoffversorgung-unterstuetzt-durch-ein-homoeopathisches-konstitutionsmittel/
CATEGORIES:Aufbauseminare
ATTACH;FMTTYPE=image/jpeg:https://www.nutztierhomoeopathie.de/wp-content/uploads/2018/09/Salz-1.jpg
END:VEVENT
END:VCALENDAR