BEGIN:VCALENDAR
VERSION:2.0
PRODID:-//Nutztierhomoeopathie Birgit Gnadl &amp; Angela Lamminger - ECPv4.6.19//NONSGML v1.0//EN
CALSCALE:GREGORIAN
METHOD:PUBLISH
X-WR-CALNAME:Nutztierhomoeopathie Birgit Gnadl &amp; Angela Lamminger
X-ORIGINAL-URL:https://www.nutztierhomoeopathie.de
X-WR-CALDESC:Veranstaltungen für Nutztierhomoeopathie Birgit Gnadl &amp; Angela Lamminger
BEGIN:VEVENT
DTSTART;TZID=Europe/Berlin:20250110T090000
DTEND;TZID=Europe/Berlin:20250110T160000
DTSTAMP:20260423T130349
CREATED:20240822T091110Z
LAST-MODIFIED:20250114T130350Z
UID:3590-1736499600-1736524800@www.nutztierhomoeopathie.de
SUMMARY:Auffrischungs- und Grundlagenseminar Homöopathie beim Pferd
DESCRIPTION:Auffrischungs- und Grundlagenseminar\nin der homöopathischen Anwendung beim Pferd.\nStallapotheke und der vielseitige Einsatzbereich rund um die Pferdegesundheit\nSeminartermin: Freitag\, 10.01.2025 \nSeminarort: Bürgerhaus in 21782 Bülkau\, Im Dorf \nSeminarleitung: \nAngela Lamminger Buchautorin und Dozentin für ganzheitliche Rinder- und Pferdegesundheit \nSeminarkosten: \n140 Euro je Teilnehmer inkl. umfangreicher Seminarunterlagen – zzgl. Getränke und Essen \nWERDEN beide Tage zusammen gebucht beträgt der Seminarbeitrag für beide Tage gesamt 270\,00 Euro! \nSeminargebühr ist am Seminartag in bar zu bezahlen. Bei Stornierung innerhalb der letzten 7 Tage fallen 50% Stornogebühr an. \nSeminarzeit:  9:00 – 16:00 Uhr\n \nSeminaranmeldung: \nHeike Wisch\, E-Mail heikewisch@gmx.de  oder \nAngela Lamminger\, E-Mail: gela.lamminger@t-online.de oder Fax: 08656/983839 \nSeminarbeschreibung: \nDieses Seminar ist geeignet für Freizeitreiter\, Züchter und alle Pferdeinteressierten sowie –besitzer. In diesem Seminar werden wir uns mit der ganzheitlichen Betrachtung zur Pferdegesundheit befassen\, um Probleme frühzeitig zu erkennen und mit einfachsten Mitteln als Erstmaßnahme reagieren zu können. \nDer Schwerpunkt in diesem Seminar liegt in der homöopathischen Behandlung der Pferde. Die Homöopathie\, welche von Samuel Hahnemann begründet wurde\, ist grundsätzlich auf alle Lebewesen und somit auch auf Pferde sehr gut übertragbar. Sowohl bei akuten als auch bei chronischen Erkrankungen hat man beim Pferd zahlreiche Möglichkeiten der Unterstützung. \n Inhalt: \n\nAuffrischung in den Grundlagen der klassischen Homöopathie des Samuel Hahnemann\, und die selbständige und verantwortungsbewusste Anwendung\nArzneimittelrecht und relevante Verordnung zur Anwendung der Naturheilkunde beim Pferd\nÜberblick über eine gut sortierte Stallapotheke\nHomöopathische Notfall-Apotheke\nAnwendungsbereiche der einzelnen Mittel der Stall-Apotheke und somit Einblick und Erstmaßnahmen für alle Bereiche wie Bewegungsapparat\, Verletzungen\, Hufe\, Haut\, Atemwege\, Versorgung rund um die Geburt für Stute und Fohlen\, Verhaltensprobleme wie Schreckhaftigkeit und Ängste und vieles mehr.\n\nJeder Seminarteilnehmer erhält sehr umfangreiches Skriptmaterial. \nKeine homöopathischen Vorkenntnisse notwendig. \nDrucken
URL:https://www.nutztierhomoeopathie.de/event/auffrischungs-und-grundlagenseminar-homoeopathie-beim-pferd/
CATEGORIES:Aufbauseminare,Basis-Seminare,Pferdeseminare
ATTACH;FMTTYPE=image/jpeg:https://www.nutztierhomoeopathie.de/wp-content/uploads/2018/09/Pferde.jpg
ORGANIZER;CN="Angela%20Lamminger":MAILTO:gela.lamminger@t-online.de
END:VEVENT
END:VCALENDAR