BEGIN:VCALENDAR
VERSION:2.0
PRODID:-//Nutztierhomoeopathie Birgit Gnadl &amp; Angela Lamminger - ECPv4.6.19//NONSGML v1.0//EN
CALSCALE:GREGORIAN
METHOD:PUBLISH
X-WR-CALNAME:Nutztierhomoeopathie Birgit Gnadl &amp; Angela Lamminger
X-ORIGINAL-URL:https://www.nutztierhomoeopathie.de
X-WR-CALDESC:Veranstaltungen für Nutztierhomoeopathie Birgit Gnadl &amp; Angela Lamminger
BEGIN:VEVENT
DTSTART;TZID=Europe/Berlin:20251118T090000
DTEND;TZID=Europe/Berlin:20251118T160000
DTSTAMP:20260423T141217
CREATED:20240529T142744Z
LAST-MODIFIED:20250605T134048Z
UID:3429-1763456400-1763481600@www.nutztierhomoeopathie.de
SUMMARY:Aufbauseminar Homöopathie im Milchviehbetrieb - Klauengesundheit ganzheitlich betrachtet
DESCRIPTION:A-4201 Gramastetten \nAufbauseminar-Homöopathie für Milchviehbetriebe\nThema: Klauengesundheit beim Rind ganzheitlich betrachtet\, Möglichkeiten der Homöopathie\n  \nSeminarort: A-4201 Gramastetten\, Marktstr. 3\, Gasthaus Stöbich/Kirchenwirt \nSeminartermin: 18.11.2025 \nSeminarzeit: 9:00 bis 16:00 Uhr \nSeminargebühr: 110\,00 € je Teilnehmer \n(werden beide Seminartage gebucht 17.11. + 18.11.2025 reduziert sich der Seminarbeitrag auf 100\,00 € je Tag) \nSeminarleitung: Angela Lamminger\, Referentin für Nutztiergesundheit \nAnmeldung: \nAnneliese Grillnberger\, Tel.: 0043/(0)664/5526795 \noder IGARI Praxisgemeinschaft Birgit Gnadl und Angela Lamminger \nFax: 0049/(0)8656/983839 oder Mail: kontakt@nutztierhomoeopathie.de \n  \nSeminarbeschreibung:\n\nMaßnahmen um die Klauengesundheit generell zu verbessern (Fütterung und Management)\nKlauenabszess\nKlauenrehe\nLimax\nPanaritium\nMortellaro (Erdbeerkrankheit)\nBegleit-Therapien bei Gelenks- und Klauenerkrankungen\n\nJeder Seminarteilnehmer erhält umfangreiche Seminarunterlagen. \nVorkenntnisse aus dem Grundlagenseminar Homöopathie sind von Vorteil. \nEbenso sind die Vorkenntnise bzgl. Fütterung aus dem Seminar am Vortag sehr hilfreich! \nDrucken
URL:https://www.nutztierhomoeopathie.de/event/aufbauseminar-homoeopathie-im-milchviehbetrieb-fruchtbarkeit-beim-rind-ganzheitlich-betrachtet/
LOCATION:Marktstraße 3\, Gramastetten\, 4201\, Österreich
CATEGORIES:Aufbauseminare
ATTACH;FMTTYPE=image/jpeg:https://www.nutztierhomoeopathie.de/wp-content/uploads/2022/12/Klaue.jpg
ORGANIZER;CN="Angela%20Lamminger":MAILTO:gela.lamminger@t-online.de
END:VEVENT
END:VCALENDAR