BEGIN:VCALENDAR
VERSION:2.0
PRODID:-//Nutztierhomoeopathie Birgit Gnadl &amp; Angela Lamminger - ECPv4.6.19//NONSGML v1.0//EN
CALSCALE:GREGORIAN
METHOD:PUBLISH
X-WR-CALNAME:Nutztierhomoeopathie Birgit Gnadl &amp; Angela Lamminger
X-ORIGINAL-URL:https://www.nutztierhomoeopathie.de
X-WR-CALDESC:Veranstaltungen für Nutztierhomoeopathie Birgit Gnadl &amp; Angela Lamminger
BEGIN:VEVENT
DTSTART;TZID=Europe/Berlin:20231207T093000
DTEND;TZID=Europe/Berlin:20231207T160000
DTSTAMP:20260424T013845
CREATED:20200902T113727Z
LAST-MODIFIED:20231123T103458Z
UID:1850-1701941400-1701964800@www.nutztierhomoeopathie.de
SUMMARY:Aufbauseminar Homöopathie für Milchviehbetriebe - Eutergesundheit
DESCRIPTION:93413 Cham – \nAufbauseminar Homöopathie für Rinder – Eutergesundheit ganzheitlich betrachtet\nSeminartermin: 07.12.2023 \nSeminarzeit: 9:30 bis 16:00 Uhr \nSeminarkosten: 100 Euro pro Person / Ehepaare zusammen 180 Euro \nSeminarort: Hotel Randsberger Hof\, Randsbergerhofstraße 15-19\, 93413 Cham \nLeitung: Angela Lamminger\, Dozentin für ganzheitliche Nutztiergesundheit\n \nAnmeldung: \nClaudia Hierstetter \nAmt für Ernährung\, Landwirtschaft und Forsten Cham Schleinkoferstr. 10\, 93413 Cham \nTel: 09971 485-0 \noder \nIGARI Praxisgemeinschaft Birgit Gnadl und Angela Lamminger \nwww.nutztierhomoeopathie.de        kontakt@nutztierhomoeopathie.de \nFax:   08656 983839 \nDrucken
URL:https://www.nutztierhomoeopathie.de/event/aufbauseminar-homoeopathie-fuer-rinder-thema-noch-offen-19/
LOCATION:Randsbergerhofstr. 15-19\, Cham\, 93413
CATEGORIES:Aufbauseminare
ATTACH;FMTTYPE=image/jpeg:https://www.nutztierhomoeopathie.de/wp-content/uploads/2018/09/Eutergesundheit.jpg
ORGANIZER;CN="Angela%20Lamminger":MAILTO:gela.lamminger@t-online.de
END:VEVENT
END:VCALENDAR