BEGIN:VCALENDAR
VERSION:2.0
PRODID:-//Nutztierhomoeopathie Birgit Gnadl &amp; Angela Lamminger - ECPv4.6.19//NONSGML v1.0//EN
CALSCALE:GREGORIAN
METHOD:PUBLISH
X-WR-CALNAME:Nutztierhomoeopathie Birgit Gnadl &amp; Angela Lamminger
X-ORIGINAL-URL:https://www.nutztierhomoeopathie.de
X-WR-CALDESC:Veranstaltungen für Nutztierhomoeopathie Birgit Gnadl &amp; Angela Lamminger
BEGIN:VEVENT
DTSTART;TZID=Europe/Berlin:20251117T090000
DTEND;TZID=Europe/Berlin:20251117T160000
DTSTAMP:20260423T154041
CREATED:20200226T091714Z
LAST-MODIFIED:20250923T131618Z
UID:1671-1763370000-1763395200@www.nutztierhomoeopathie.de
SUMMARY:Aufbauseminar für Milchviehbetrieb - Thema: Fütterung und Stoffwechsel beim Rind ganzheitlich betrachtet
DESCRIPTION:A-4201 Gramastetten \nAufbauseminar für Milchviehbetriebe\nThema: Fütterung und Stoffwechsel beim Rind ganzheitlich betrachtet\n  \nSeminarort: A-4201 Gramastetten\, Marktstr. 3\, Gasthaus Stöbich/Kirchenwirt \nSeminartermin: 17.11.2025 \nSeminarzeit: 9:00 bis 16:00 Uhr \nSeminargebühr: 110\,00 € je Teilnehmer (werden beide Seminartage gebucht 17.11. + 18.11.2025 reduziert sich der Seminarbeitrag auf 100\,00 € je Tag) \nSeminarleitung: Angela Lamminger\, Referentin für Nutztiergesundheit und Gastreferent Dirk Bechmann\, Dipl. Ing. Agr. FH;  arbeitet seit über 20 Jahren in der Schweizer landwirtschaftlichen Branche mit dem Schwerpunkt der Milchviehfütterung. \nAnmeldung: \nAnneliese Grillnberger\, Tel.: 0043/(0)664/5526795 \noder IGARI Praxisgemeinschaft Birgit Gnadl und Angela Lamminger \nFax: 0049/(0)8656/983839 oder Mail: kontakt@nutztierhomoeopathie.de \n  \nSeminarbeschreibung:\nDas Seminar wird federführend von unserem Gastreferent Dirk Bechmann aus der Schweiz geleitet. \nEr wird all seine Erfahrungen und sein umfangreiches Wissen bzgl. Fütterung und Stoffwechsel beim Rind erklären. \n\n\n\nMineralstoffe / Mangel-Überschuß?\nDurchführung einer Haaranalyse\nStoffwechselerkrankungen bei heranwachsenden Tieren und Jungkühen\nFehlererkennung anhand der MLPStoffwechselerkrankungen als Bestandsproblem\nErnährung und Herdengesundheit sind in der wirtschaftlichen Milchrinderhaltung untrennbar verbunden. Um den Gesundheitszustand der Herde zu optimieren und somit auch das tierische Leistungspotential zu erhöhen\, ist ein solides Fachwissen über die Zusammenhänge von Stoffwechsel und Fütterung unabdingbar.\nZiel dieses Seminars ist es\, Stoffwechselsymptome aufgrund von betriebsindividuellen Fütterungsbedingungen zu optimieren und Fehler zu vermeiden. Die Seminarteilnehmerinnen und Teilnehmer lernen die Auswirkungen der unterschiedlichen Fütterung am Tier und der Herde zu kontrollieren und Warnhinweise (Signale) der Kuh sofort zu erkennen. Gerade an der MLP können viele Daten und Informationen zur Fütterung ausgelesen werden.Gerne können die Kursteilnehmer Ihre MLP mitbringen.Wir werden aber auch die verschiedenen Stoffwechselerkrankungen ansprechen. Diese sind Störungen im Austausch verschiedener Aufbau-\, Nähr- und Zusatzstoffe zwischen Geweben und Zellen im Organismus. Oft fehlt es dem Körper nicht an einem Stoff\, sondern ihm fehlt nur die Möglichkeit oder Fähigkeit das Vorhandene auch entsprechend umzusetzen. Am anfälligsten sind heranwachsende\, hochträchtige\, frischmelkende Tiere.Bereits während der Aufzucht kann die Veranlagung zur Stoffwechselproblematischen Kuh entstehen.\n\nJeder Teilnehmer darf seinen aktuellen Milchprüfzettel mitbringen wenn er möchte\, dann kann das Seminar aufgrund zahlreicher Beispiele (Zusammenhänge Fütterung und Milchinhaltsstoffe und Tiergesundheit) aufgelockert und verständlicher gestaltet werden. Nutzt diese Gelegenheit!\n\nJeder Seminarteilnehmer erhält umfangreiche Seminarunterlagen.\n\n\n\n\n\n                   Vorkenntnisse in der Homöopathie sind NICHT erforderlich!\n \n                   Das Seminar ist vor allem für jene geeignet\, die im Stall für die Fütterung zuständig sind. \n  \nDrucken
URL:https://www.nutztierhomoeopathie.de/event/aufbauseminar-homoeopathie-fuer-rinder-thema-noch-offen-16/
LOCATION:Marktstraße 3\, Gramastetten\, 4201\, Österreich
CATEGORIES:Aufbauseminare,Basis-Seminare
ATTACH;FMTTYPE=image/jpeg:https://www.nutztierhomoeopathie.de/wp-content/uploads/2018/09/Fütterung-und-Stoffwechsel.jpg
ORGANIZER;CN="Angela%20Lamminger":MAILTO:gela.lamminger@t-online.de
END:VEVENT
END:VCALENDAR