BEGIN:VCALENDAR
VERSION:2.0
PRODID:-//Nutztierhomoeopathie Birgit Gnadl &amp; Angela Lamminger - ECPv4.6.19//NONSGML v1.0//EN
CALSCALE:GREGORIAN
METHOD:PUBLISH
X-WR-CALNAME:Nutztierhomoeopathie Birgit Gnadl &amp; Angela Lamminger
X-ORIGINAL-URL:https://www.nutztierhomoeopathie.de
X-WR-CALDESC:Veranstaltungen für Nutztierhomoeopathie Birgit Gnadl &amp; Angela Lamminger
BEGIN:VEVENT
DTSTART;TZID=Europe/Berlin:20240229T090000
DTEND;TZID=Europe/Berlin:20240229T160000
DTSTAMP:20260423T124307
CREATED:20230520T135111Z
LAST-MODIFIED:20240222T172928Z
UID:3260-1709197200-1709222400@www.nutztierhomoeopathie.de
SUMMARY:Aufbauseminar Homöopathie für Rinder - Fit für den Sommer
DESCRIPTION:A-3335Weyer \nABGESAGT!!!! Aufbauseminar Homöopathie für Rinder\nThema: Fit für den Sommer\nVeranstaltungsort: A-3335 Weyer\, Gasthaus Steineck\,  Steyrerstraße 3 \nSeminartermin: 29.02.2024 – das Seminar wird aufgrund zu weniger Anmeldungen leider abgesagt. Am 28.02. findet ein Aufbauseminar zum Thema Kälbergesundheit ganzheitlich betrachtet in Spital am Phyrn statt – vielleicht wäre das ja eine Alternative für alle die eigentlich am Seminar teilnehmen wollten.\n \nSeminarzeit: 9:00 – 16:00 Uhr \nSeminargebühr: 90 Euro \nLeitung:  Angela Lamminger\, Dozentin für ganzheitliche Nutztiergesundheit\n \nAnmeldung: \nTHP Praxisgemeinschaft Birgit Gnadl und Angela Lamminger \nFax: 0049 8656 983 839 oder kontakt@nutztierhomoeopathie.de \noder \nBurgi Haugeneder\, Rapoldeck 18\, 3335 Weyer. 06642366370\, Email: whaugeneder@gmx.at \n  \nSeminarbeschreibung: \n\nEinführung oder Auffrischung in die Grundlagen der ganzheitlichen Nutztierbehandlung und die Möglichkeiten der selbständigen und verantwortungsbewussten Anwendung\nArzneimittelrecht\, Verordnungen allgemein\nRund um die Weide – Milchkuh\, Jungvieh\, Kälber\n\n(Transport\, Mondphasen\, Zäune\, Polizei\, Veterinäramt\, Weidezaun\, Almtiere\, Freizeitmenschen\, Wolf\, Wetter\, Verbraucherwirkung) \n\nParasitenmanagement – Milchkuh\, Jungvieh\, Kälber\nHitzestress und Abhilfe\nSommermastitis Milchkühe\nSommerdurchfälle Kälber\nAuswirkung der Futterqualität auf die Gesundheit der Tiere\nEinstallen im Herbst\n\nJeder Seminarteilnehmer erhält umfangreiche Seminarunterlagen. \nGrundlagenkenntnisse Homöopathie sind für dieses Seminar notwendig. \n  \n  \nDrucken
URL:https://www.nutztierhomoeopathie.de/event/aufbauseminar-homoeopathie-fuer-rinder-fit-fuer-den-sommer/
LOCATION:Steyrstr. 3\, Weyer\, 3335\, Österreich
CATEGORIES:Aufbauseminare
ORGANIZER;CN="Angela%20Lamminger":MAILTO:gela.lamminger@t-online.de
END:VEVENT
END:VCALENDAR