BEGIN:VCALENDAR
VERSION:2.0
PRODID:-//Nutztierhomoeopathie Birgit Gnadl &amp; Angela Lamminger - ECPv4.6.19//NONSGML v1.0//EN
CALSCALE:GREGORIAN
METHOD:PUBLISH
X-WR-CALNAME:Nutztierhomoeopathie Birgit Gnadl &amp; Angela Lamminger
X-ORIGINAL-URL:https://www.nutztierhomoeopathie.de
X-WR-CALDESC:Veranstaltungen für Nutztierhomoeopathie Birgit Gnadl &amp; Angela Lamminger
BEGIN:VEVENT
DTSTART;TZID=Europe/Berlin:20251129T090000
DTEND;TZID=Europe/Berlin:20251129T160000
DTSTAMP:20260419T185051
CREATED:20230724T150943Z
LAST-MODIFIED:20250801T161432Z
UID:3291-1764406800-1764432000@www.nutztierhomoeopathie.de
SUMMARY:Aufbauseminar - Fütterung und Verdauungsapparat beim Pferd ganzheitlich betrachtet
DESCRIPTION:A- 5600 S-t. Johann im Pongau \nAufbauseminar für Pferde\n„Die Fütterung und der Verdauungsapparat des Pferdes ganzheitlich betrachtet“\nSeminarort: Hotel Brückenwirt\, Hauptstr. 78\, A-5600 St. Johann im Pongau \nSeminartermin: 29. November 2025 \nSeminarzeit: 9:00-16:00 Uhr \nLeitung: Angela Lamminger\, Referentin für ganzheitliche Nutztiergesundheit \nAnmeldung: \nLFI Salzburg – Ländliches Fortbildungsinstitut \nSchwarzstr. 19\, A-5020 Salzburg \nTel. +43 50 2595-3337   magdalena.sigl@lk-salzburg.at \nwww.sbg.lfi.at \n  \nSeminarbeschreibung \nEinführung in die Grundlagen der klassischen Homöopathie des Samuel Hahnemann\, und die selbständige Anwendung \nAllgemein rechtliche Bestimmungen und Verordnungen \n– das Verdauungssystem des Pferdes\n– wie funktioniert der Stoffwechsel\n– Mineralien\, Spurenelemente\, Vitamine – was benötigt mein Pferd?\n– Verschiedene Futtermittel und deren Bedeutung für das Pferd\n– Fütterungsbedingte Krankheiten (z.B. Kolik\, Hufrehe\, Wohlstandserkrankungen\, ……) \nEine gesunde Fütterung ist die Grundlage für die Gesundheit deines Pferdes. Doch was ist eine gesunde Fütterung? Was sollte beachtet werden? Wie wirkt sich eine „falsche“ Fütterung auf die Gesundheit deines Pferdes aus?\nIn diesem Seminar werden die Verdauung\, der Stoffwechsel sowie verschiedene Probleme des Pferdes aufgrund von Fütterungsfehlern genauer betrachtet\, damit auch die Zusammenhänge mit der Entstehung verschiedener Krankheitsbilder klarer und verständlicher wird. \nHomöopathische Behandlungsansätze und Möglichkeiten der Unterstützung bei ersten Krankheitsanzeichen \n  \nJeder Seminarteilnehmer erhält ein umfangreiches Skript. \nKeine Vorkenntnisse notwendig. \nDrucken
URL:https://www.nutztierhomoeopathie.de/event/aufbauseminar-fuetterung-und-verdauungsapparat-beim-pferd-ganzheitlich-betrachtet/
LOCATION:Hauptstraße 78\, St. Johann im Pongau\, 5600\, Österreich
CATEGORIES:Aufbauseminare,Basis-Seminare,Pferdeseminare
ATTACH;FMTTYPE=image/jpeg:https://www.nutztierhomoeopathie.de/wp-content/uploads/2022/09/Pferde-GK.jpg
ORGANIZER;CN="Angela%20Lamminger":MAILTO:gela.lamminger@t-online.de
END:VEVENT
END:VCALENDAR