BEGIN:VCALENDAR
VERSION:2.0
PRODID:-//Nutztierhomoeopathie Birgit Gnadl &amp; Angela Lamminger - ECPv4.6.19//NONSGML v1.0//EN
CALSCALE:GREGORIAN
METHOD:PUBLISH
X-WR-CALNAME:Nutztierhomoeopathie Birgit Gnadl &amp; Angela Lamminger
X-ORIGINAL-URL:https://www.nutztierhomoeopathie.de
X-WR-CALDESC:Veranstaltungen für Nutztierhomoeopathie Birgit Gnadl &amp; Angela Lamminger
BEGIN:VEVENT
DTSTART;TZID=Europe/Berlin:20250114T093000
DTEND;TZID=Europe/Berlin:20250114T160000
DTSTAMP:20260423T174341
CREATED:20191108T163055Z
LAST-MODIFIED:20250108T190610Z
UID:1556-1736847000-1736870400@www.nutztierhomoeopathie.de
SUMMARY:Grundlagenseminar Homöopathie für Milchviehhalter
DESCRIPTION:82346 Andechs \nGrundlagenseminar Homöopathie für Milchviehhalter\nSeminar ausschließlich für Biomilcherzeuger der Andechser Molkerei \nSeminarort: Andechser Molkerei \nSeminartermin: 14.01.2025 \nSeminarzeit: 9:30 bis 16:00 Uhr \nSeminarleitung: Birgit Gnadl Dozentin für ganzheitliche Nutztiergesundheit\, Buchautorin und Landwirtin\n \nAnmeldung: \nAndechser Molkerei Scheitz GmbH\, Biomilchstraße 1\, 82346 Andechs \nTel: +498152379172     Fax: +498152379171 \nC.Straub@andechser-molkerei.de\nwww.andechser-natur.de \nDrucken
URL:https://www.nutztierhomoeopathie.de/event/aufbauseminar-fruchtbarkeit-beim-rind/
LOCATION:Biomilchstraße 1\, Andechs\, 82346\, Deutschland
CATEGORIES:Basis-Seminare
ATTACH;FMTTYPE=image/jpeg:https://www.nutztierhomoeopathie.de/wp-content/uploads/2018/06/Kuhfellbraun.jpg
ORGANIZER;CN="Birgit%20Gnadl":MAILTO:gnadl-lamminger@t-online.de
END:VEVENT
END:VCALENDAR