BEGIN:VCALENDAR
VERSION:2.0
PRODID:-//Nutztierhomoeopathie Birgit Gnadl &amp; Angela Lamminger - ECPv4.6.19//NONSGML v1.0//EN
CALSCALE:GREGORIAN
METHOD:PUBLISH
X-WR-CALNAME:Nutztierhomoeopathie Birgit Gnadl &amp; Angela Lamminger
X-ORIGINAL-URL:https://www.nutztierhomoeopathie.de
X-WR-CALDESC:Veranstaltungen für Nutztierhomoeopathie Birgit Gnadl &amp; Angela Lamminger
BEGIN:VEVENT
DTSTART;TZID=Europe/Berlin:20250124T093000
DTEND;TZID=Europe/Berlin:20250124T160000
DTSTAMP:20260424T032649
CREATED:20241219T191327Z
LAST-MODIFIED:20241219T191327Z
UID:3819-1737711000-1737734400@www.nutztierhomoeopathie.de
SUMMARY:Aufbauseminar\, Auffrischungsseminar Homöopathie für Milchviehhalter
DESCRIPTION:82346 Andechs \nAufbauseminar\, Auffrischungsseminar Homöopathie für Milchviehhalter\nThema: Kombi – von allem etwas\nSeminar ausschließlich für Biomilcherzeuger der Andechser Molkerei \nSeminarort: Andechser Molkerei \nSeminartermin: 24.01.2025 \nSeminarzeit: 9:30 bis 16:00 Uhr \nSeminarleitung: Birgit Gnadl Dozentin für ganzheitliche Nutztiergesundheit\, Buchautorin und Landwirtin\n \nAnmeldung: \nAndechser Molkerei Scheitz GmbH\, Biomilchstraße 1\, 82346 Andechs \nTel: +498152379172     Fax: +498152379171 \nC.Straub@andechser-molkerei.de\nwww.andechser-natur.de \n  \nSeminarbeschreibung: \n\nKurze Einführung oder Auffrischung in die Grundlagen der ganzheitlichen Nutztierbehandlung\nArzneimittelrehct\, relevante Tierhalter-Verordungen allgemein\nBlauzungen-Virus und Naturheilkundliche Unterstützung\nNosoden und ihr Einsatz bei Virus und Infektionskrankheiten\nKälbergesundheit\, Kälberkommunikation\nEutergesundheit\nFruchtbarkeit- ganzheitliche Betrachtung\nMöglichkeiten der Homöopathischen Bestandsbehandlung\n\nKenntnisse der Homöopathie sind für dieses Seminar vorteilhaft \nDrucken
URL:https://www.nutztierhomoeopathie.de/event/aufbauseminar-auffrischungsseminar-homoeopathie-fuer-milchviehhalter/
LOCATION:Biomilchstraße 1\, Andechs\, 82346\, Deutschland
CATEGORIES:Aufbauseminare,Basis-Seminare
ATTACH;FMTTYPE=image/jpeg:https://www.nutztierhomoeopathie.de/wp-content/uploads/2018/09/Nosoden-und-Prophylaxe.jpg
END:VEVENT
END:VCALENDAR