BEGIN:VCALENDAR
VERSION:2.0
PRODID:-//Nutztierhomoeopathie Birgit Gnadl &amp; Angela Lamminger - ECPv4.6.19//NONSGML v1.0//EN
CALSCALE:GREGORIAN
METHOD:PUBLISH
X-WR-CALNAME:Nutztierhomoeopathie Birgit Gnadl &amp; Angela Lamminger
X-ORIGINAL-URL:https://www.nutztierhomoeopathie.de
X-WR-CALDESC:Veranstaltungen für Nutztierhomoeopathie Birgit Gnadl &amp; Angela Lamminger
BEGIN:VEVENT
DTSTART;TZID=Europe/Berlin:20240124T090000
DTEND;TZID=Europe/Berlin:20240124T160000
DTSTAMP:20260423T213137
CREATED:20190529T134339Z
LAST-MODIFIED:20240110T090608Z
UID:1393-1706086800-1706112000@www.nutztierhomoeopathie.de
SUMMARY:Gute Milchqualität ganzheitlich betrachtet
DESCRIPTION:79541 Lörrach \nAufbauseminar „Homöopathie für Rinder“\nGute Milchqualität ganzheitlich betrachtet\nVeranstaltungsort: Landgasthaus Maien\, Maienplatz 2\, 79618 Rheinfelden (Baden) \nTermin: 24.01.2024 \nSeminarzeit:  von 9:00-16 Uhr \nLeitung: Birgit Gnadl\, Dozentin für ganzheitliche Nutztiergesundheit\n \nAnmeldung: \nLandratsamt Lörrach\nLandwirtschaft & Naturschut \nIm Entenbad 11 bis 13\n79541 Lörrach \nTelefon:  +49 7621 410-4443\nTelefax:  +49 7621 410-94443\nInternet:  http://www.loerrach-landkreis.de\nE-Mail:   martina.krietemeyer@loerrach-landkreis.de \nSeminarbeschreibung: \n\nEinführung oder Auffrischung in die Grundlagen der ganzheitlichen Nutztierbehandlung und die Möglichkeiten der selbständigen und verantwortungsbewussten Anwendung\nArzneimittelrecht\, relevante Tierhalter-Verordnungen allgemein\nMögliche Ursachen und Abhilfe von Milchqualitätsproblemen (Fettgehalt\, ph-Wert\, Gefrierpunkt\, Keime)\nStoffwechselprobleme und Einfluss auf die Milchqualität\nEinfluss der Mineralstoffversorgung und Grundfutterqualität\nEuterentzündung chronisch oder akut – ganzheitliche Behandlungsmöglichkeiten\nPraktische Beispiele aus der Beratung und wie können die Anforderungen der Gesellschaft an die Landwirtschaft erfüllt werden\n\nJeder Seminarteilnehmer erhält sehr umfangreiche Seminarunterlagen. \nKeine Homöopathie Vorkenntnisse notwendig! \n  \nDrucken
URL:https://www.nutztierhomoeopathie.de/event/arzneimittelbilder-der-zugelassenen-remavet-ad-us-vet-homoeopathika/
LOCATION:Maienplatz 2\, Rheinfelden\, 79618\, Deutschland
CATEGORIES:Aufbauseminare,Basis-Seminare
ATTACH;FMTTYPE=image/jpeg:https://www.nutztierhomoeopathie.de/wp-content/uploads/2020/09/kuhmilch.jpg
ORGANIZER;CN="Birgit%20Gnadl":MAILTO:gnadl-lamminger@t-online.de
END:VEVENT
END:VCALENDAR