BEGIN:VCALENDAR
VERSION:2.0
PRODID:-//Nutztierhomoeopathie Birgit Gnadl &amp; Angela Lamminger - ECPv4.6.19//NONSGML v1.0//EN
CALSCALE:GREGORIAN
METHOD:PUBLISH
X-WR-CALNAME:Nutztierhomoeopathie Birgit Gnadl &amp; Angela Lamminger
X-ORIGINAL-URL:https://www.nutztierhomoeopathie.de
X-WR-CALDESC:Veranstaltungen für Nutztierhomoeopathie Birgit Gnadl &amp; Angela Lamminger
BEGIN:VEVENT
DTSTART;TZID=Europe/Berlin:20251021T090000
DTEND;TZID=Europe/Berlin:20251021T160000
DTSTAMP:20260424T025204
CREATED:20220210T090515Z
LAST-MODIFIED:20250801T160133Z
UID:2700-1761037200-1761062400@www.nutztierhomoeopathie.de
SUMMARY:Aufbauseminar - Homöopathie für Rinder\, Thema: Fruchtbarkeit beim Rind
DESCRIPTION:A-5730 Mittersill \nAufbauseminar Homöopathie für Milchviehbetriebe\nThema: Fruchtbarkeit beim Rind ganzheitlich betrachtet und Möglichkeiten der Prophylaktischen Unterstützung (Einsatz von Nosoden)\n  \nSeminarort: Gasthof Haidbach\, Oberfelben 8\, A-5730 Mittersill \nSeminartermin:21.10.2025 \nSeminarzeit: 9:00-16:00 Uhr \nSeminargebühr: 126\,00 € ohne Förderung \n45\,00 € mit Förderung. Das Seminar wird im Rahmen  der Bildungsförderung der Ländlichen Entwicklung gefördert \nSeminarleitung: Angela Lamminger\, Referentin für ganzheitliche Nutztiergesundheit (Gemeinschaftspraxis mit Birgit Gnadl) \nAnmeldung: \nLFI Salzburg – Ländliches Fortbildungsinstitut\, Schwarzstr. 19\, A-5020 Salzburg \nTel. +43 50 2595-3337   magdalena.sigl@lk-salzburg.at \nwww.sbg.lfi.at \nAnmelden zum Seminar\n  \nSeminarbeschreibung: \n\nProbleme der Fruchtbarkeit\nZyklus des Rindes\nMögliche Ursachen von Fruchtbarkeitsstörungen\nSchwierigkeiten beim Aufnehmen\nZysten\nChronische Gebärmutterschleimhaut-Entzündung\nGebärmutterverdrehung / Gebärmuttervorfall\nScheidenvorfall\nVirus- und Infektionserkrankungen: Chlamydien\, Q-Fieber\nFruchtbarkeit verbessern und beeinflussen mit Nosoden\nUnterstützende und prophylaktische Möglichkeiten rund um die Trächtigkeit\, Trockenstehphase und Geburtszeitraum\n\n\nJeder Seminarteilnehmer erhält umfangreiche Seminarunterlagen. \nVorkenntnisse aus dem Grundlagenseminar sind erforderlich. \n\nDrucken
URL:https://www.nutztierhomoeopathie.de/event/a-5730-mittersill-antibiotikareduktion-am-milchviehbetrieb-moeglichkeiten-der-homoeopathie/
LOCATION:Oberfelben 8\, Mittersill\, 5730\, Österreich
CATEGORIES:Aufbauseminare
ATTACH;FMTTYPE=image/jpeg:https://www.nutztierhomoeopathie.de/wp-content/uploads/2021/02/Fruchtbarkeit.jpg
ORGANIZER;CN="Angela%20Lamminger":MAILTO:gela.lamminger@t-online.de
END:VEVENT
END:VCALENDAR