BEGIN:VCALENDAR
VERSION:2.0
PRODID:-//Nutztierhomoeopathie Birgit Gnadl &amp; Angela Lamminger - ECPv4.6.19//NONSGML v1.0//EN
CALSCALE:GREGORIAN
METHOD:PUBLISH
X-WR-CALNAME:Nutztierhomoeopathie Birgit Gnadl &amp; Angela Lamminger
X-ORIGINAL-URL:https://www.nutztierhomoeopathie.de
X-WR-CALDESC:Veranstaltungen für Nutztierhomoeopathie Birgit Gnadl &amp; Angela Lamminger
BEGIN:VEVENT
DTSTART;TZID=Europe/Berlin:20240108T090000
DTEND;TZID=Europe/Berlin:20240109T160000
DTSTAMP:20260424T001437
CREATED:20230224T154044Z
LAST-MODIFIED:20231010T110011Z
UID:3162-1704704400-1704816000@www.nutztierhomoeopathie.de
SUMMARY:Grundlagenseminar Homöopathie für Rinder
DESCRIPTION:A-4582 Spital am Phyrn\nGrundlagenseminar Homöopathie für Rinder\nVeranstaltungsort: A-4582 Spital am Phyrn\, Pfaarheim \nSeminartermin: 08. und 09.01.2024 \nSeminarzeit: 9:00 – 16:00 Uhr \nSeminargebühr: 220 Euro \nLeitung: Angela Lamminger\, Dozentin für ganzheitliche Nutztiergesundheit \nAnmeldung: \nTHP Praxisgemeinschaft Birgit Gnadl und Angela Lamminger \nFax: 0049 8656 983 839 oder kontakt@nutztierhomoeopathie.de \noder Regina Reiter oder Regina Rebhandl\, Spital \nDrucken
URL:https://www.nutztierhomoeopathie.de/event/3162/
CATEGORIES:Basis-Seminare
ATTACH;FMTTYPE=image/jpeg:https://www.nutztierhomoeopathie.de/wp-content/uploads/2018/06/Kuhfellbraun.jpg
ORGANIZER;CN="Angela%20Lamminger":MAILTO:gela.lamminger@t-online.de
END:VEVENT
END:VCALENDAR