BEGIN:VCALENDAR
VERSION:2.0
PRODID:-//Nutztierhomoeopathie Birgit Gnadl &amp; Angela Lamminger - ECPv4.6.19//NONSGML v1.0//EN
CALSCALE:GREGORIAN
METHOD:PUBLISH
X-WR-CALNAME:Nutztierhomoeopathie Birgit Gnadl &amp; Angela Lamminger
X-ORIGINAL-URL:https://www.nutztierhomoeopathie.de
X-WR-CALDESC:Veranstaltungen für Nutztierhomoeopathie Birgit Gnadl &amp; Angela Lamminger
BEGIN:VEVENT
DTSTART;TZID=Europe/Berlin:20250121T090000
DTEND;TZID=Europe/Berlin:20250121T160000
DTSTAMP:20260423T232253
CREATED:20250109T184308Z
LAST-MODIFIED:20250109T184308Z
UID:3835-1737450000-1737475200@www.nutztierhomoeopathie.de
SUMMARY:1 Tages Grundlagen- und Auffrischungsseminar Homöopathie für Milchviehbetriebe
DESCRIPTION:A-5612 Hüttschlag \n1 Tages Grundlagen- und Auffrischungs-Seminar\nHomöopathie für Milchviehbetriebe\nSeminarort: Hotel Hüttenwirt\, Am Dorfplatz 20\, A-5612 Hüttschlag \nSeminartermin: 21.01.2025 \nSeminarzeit: 9:00 bis 16:00 Uhr \nSeminarleitung: Angela Lamminger\, Referentin für ganzheitliche Nutztiergesundheit und Buchautorin \nAnmeldung: \nElisabeth Aichhorn (Ortsbäuerin)\, Tel. 0043/(0)664/767 0 652 oder \nkontakt@nutztierhomoeopathie.de \n  \nSeminarbeschreibung: \n\nEinführung in die Grundlagen der ganzheitlichen Behandlung beim Rind und die selbständige und verantwortungsbewusste Anwendung.\nArzneimittelrecht\, Verordnungen allgemein\nVerschiedene Erkrankungen und die Möglichkeiten des Einsatzes Anwendungen einer Homöopathischen Stallapotheke.\nHomöopathische Versorgung von Kuh und Kalb rund um die Geburt\nFruchtbarkeit beim Rind homöopathisch begleiten (Brunst\, Besamung\, …..)\n\nJeder Seminarteilnehmer erhält sehr umfangreiche Seminarunterlagen. \nFür diesen Kurs sind keine Vorkenntnisse erforderlich \nDrucken
URL:https://www.nutztierhomoeopathie.de/event/1-tages-grundlagen-und-auffrischungsseminar-homoeopathie-fuer-milchviehbetriebe/
LOCATION:Am Dorfplatz 20\, Hüttschlag im Großarltal\, 5612\, Österreich
CATEGORIES:Aufbauseminare,Basis-Seminare
ATTACH;FMTTYPE=image/jpeg:https://www.nutztierhomoeopathie.de/wp-content/uploads/2018/06/Kuhfellbraun.jpg
ORGANIZER;CN="Angela%20Lamminger":MAILTO:gela.lamminger@t-online.de
END:VEVENT
END:VCALENDAR